{"text_format":"1","workbook":"xlsx","n_sheets":3,"sheets":["ORÇAMENTO","CRONOGRAMA","BDI 20,34%"],"not_rendered":{"charts":0,"images":2,"macros":1,"external_links":0,"defined_names":9,"comments":0,"pivot_tables":0},"unopened":[],"bounds":{"document_bytes":16777216,"sheet_cells":100000,"rows_first":2000,"rows_last":500,"rows_between":2000,"halvings":0,"cell_chars":16384,"cell_head_chars":4096},"cells_cut":0,"cells_raw":0,"read":"whole","date_system":"1900"}

{"sheet":"ORÇAMENTO","index":0,"n_rows":211,"n_cols":7,"rows_kept":211,"cut":false,"hidden":false,"merged":[]}
[]
[]
["TODOS OS VALORES ESTÃO NA UNIDADE MONETÁRIA REAL"]
["ITEM ","SERVIÇO ","UN","QUANTI.","VALOR UNI.","VALOR TOTAL","CÓDIGO "]
[1,"SERVIÇOS INICIAIS",null,null,"∑ ",{"$f":"SUBTOTAL(9,F6:F10)","v":14261.96}]
["1.1","Execução de Depósito em Canteiro de Obra em Chapa de Madeira Compensada","m2",6,476.83,{"$f":"ROUND((D6*E6),2)","v":2860.98},"CRD001"]
["1.2","Execução de Área Aberta para Refeitório em Canteiro De Obra em Madeira Compensada (Incluso Banco e Mesa de Madeira)","m2",15,234.97,{"$f":"ROUND((D7*E7),2)","v":3524.55},"CRD101"]
["1.3","Execução de Sanitário e Vestiário em Canteiro de Obra em Chapa de Madeira Compensada (Incluso Lavatório, Mictório, Vaso Sanitário e Chuveiro)","m2",7,564.30999999999995,{"$f":"ROUND((D8*E8),2)","v":3950.17},"CRD100"]
["1.5","Placa de Obra em Chapa de Aço Galvanizado","m2",2.5,386.12,{"$f":"ROUND((D9*E9),2)","v":965.3},"74209/1"]
["1.6","Locação de obra convencional, através de gabarito de madeira","m",53.66,55.18,2960.96,99059]
[2,"INFRAESTRUTURA",null,null,"∑ ",{"$f":"SUBTOTAL(9,F12:F17)","v":22450.799999999999}]
["2.1","Escavações manuais","m3",20.8,79.2,{"$f":"ROUND((D12*E12),2)","v":1647.36},93358]
["2.2","Armadura CA-50 (fornecimento, corte, dobra e colocação)","kg",625.5,10.28,{"$f":"ROUND((D13*E13),2)","v":6430.14},96546]
["2.3","Armadura CA-60 (fornecimento, corte, dobra e colocação)","kg",110.1,15.64,{"$f":"ROUND((D14*E14),2)","v":1721.96},96543]
["2.4","Formas de madeira com travamento para concreto","m2",105.56,62.82,{"$f":"ROUND((D15*E15),2)","v":6631.28},"CRD102"]
["2.5","Concreto Usinado (fornecimento, lançamento, adensamento e bombeado) FCK=25MPA ","m3",10.18,447.55,4556.0600000000004,96557]
["2.6","Impermeabilização com manta asfáltica espessura 4mm, incluindo emulsão asfáltica","m2",19.2,76.25,1464,98546]
[3,"SUPRAESTRUTURA",null,null,"∑ ",{"$f":"SUBTOTAL(9,F19:F24)","v":30436.900000000005}]
["3.1","Armadura CA-50 (fornecimento, corte, dobra e colocação)","kg",665.8,10.199999999999999,{"$f":"ROUND((D19*E19),2)","v":6791.16},92778]
["3.2","Armadura CA-60 (fornecimento, corte, dobra e colocação)","kg",178.9,15.78,{"$f":"ROUND((D20*E20),2)","v":2823.04},92775]
["3.3","Formas madeira para concreto","m2",133.94999999999999,62.82,8414.74,"CRD102"]
["3.4","Concreto Usinado (fornecimento, lançamento, adensamento e bombeado) FCK=25MPA ","m3",7.58,431.38,3269.86,92720]
["3.5","Laje para cobertura treliçada,  SC 250kg/m2, c/ lajota, e capa de concreto de 5cm, FCK 25 MPa, com escoramento, ferragem negativa e malho pop.","m2",93.54,91.53,{"$f":"ROUND((D23*E23),2)","v":8561.7199999999993},"74202/2"]
["3.6","Laje para cobertura, treliçada, SC 500kg/m2, c/ lajota, e capa de concreto de 5cm, FCK 25 MPa, com escoramento, ferragem negativa e malho pop.","m2",4.18,137.88999999999999,576.38,"74141/4"]
[4,"FECHAMENTOS",null,null,"∑ ",{"$f":"SUBTOTAL(9,F26:F27)","v":12910.32}]
["4.1","Alvenaria de tijolos cerâmicos furados com espessura de 14cm  (17cm acabada)","m2",192.81,62.36,{"$f":"ROUND((D26*E26),2)","v":12023.63},87480]
["4.2","Vergas e contra-vergas ","m",14.93,59.39,886.69,93188]
[5,"COBERTURA",null,null,"∑ ",{"$f":"SUBTOTAL(9,F29:F35)","v":13314.85}]
["5.1","Estrutura "]
["5.1.1","Estrutura madeira aparelhada para telha em fibrocimento ou cerâmica, apoiada em laje ou parede.","m2",98,25.11,{"$f":"ROUND((D30*E30),2)","v":2460.7800000000002},92566]
["5.1.2","Trama em madeira aparelhada (terças)","m2",98,24.42,{"$f":"ROUND((D31*E31),2)","v":2393.16},92543]
["5.2","Telha Fibrocimento Ondulada 6mm, fornecimento e instalação","m2",62.57,41.79,{"$f":"ROUND((D32*E32),2)","v":2614.8000000000002},94210]
["5.3","Telha metálica aluzinc, trapezoidal (TP 40), espessura de 0,5mm, incluindo acessórios","m2",18.55,49.38,916,94213]
["5.4","Calhas em chapa em Aluzinco 0,5mm, desenvolvimento 33cm","m",30.17,52.99,{"$f":"ROUND((D34*E34),2)","v":1598.71},94227]
["5.5","Rufos em chapa em Aluzinco 0,5mm, desenvolvimento 25cm","m ",74.13,44.94,{"$f":"ROUND((D35*E35),2)","v":3331.4},94231]
[6,"REVESTIMENTOS",null,null,"∑ ",{"$f":"SUBTOTAL(9,F37:F40)","v":17651.97}]
["6.1","Chapisco","m2",500.33000000000004,3.87,{"$f":"ROUND((D37*E37),2)","v":1936.28},87879]
["6.2","Reboco ","m2",500.33000000000004,23.61,11812.79,87548]
["6.3","Azulejos 30x30 ","m2",39.92,62.11,2479.4299999999998,87269]
["6.4","Soleira de granito, para portas, janelas e guia de balizamento, espessura 2cm,  nas janelas com acabamento com pingadeira (fornecimento e instalação)","m",16.13,88.25,1423.47,98689]
[7,"PISO",null,null,"∑ ",{"$f":"SUBTOTAL(9,F42:F50)","v":12438.419999999998}]
["7.1","Regularização e compactação de subleito até 20cm de espessura","m2",88.780000000000015,1.52,{"$f":"ROUND((D42*E42),2)","v":134.94999999999999},72961]
["7.2","Lastro de brita graduada  - para contrapiso (e = 8cm) ","m3",7.1,98.99,702.83,88549]
["7.3","Lona 200 micras (fornecimento e instalação)","m2",88.780000000000015,6.02,534.46,68053]
["7.4","Tela Q-92 (CA-60) (Fornecimento e instalação) (1,48 kg/m2)","kg",131.38999999999999,9.14,{"$f":"ROUND((D45*E45),2)","v":1200.9000000000001},"CED008"]
["7.5","Regularização (e=3cm) de contrapiso","m2",88.780000000000015,39.020000000000003,3464.2,87630]
["7.6","Contrapiso em concreto 25Mpa  (e=7cm) ","m3",6.21,377.56,2344.65,"CED100"]
["7.7","Piso cerâmico 30x30 (ou próximo a esta medida), PEI 5, aplicado com argamassa. ","m2",67.350000000000009,43.14,2905.48,87247]
["7.8","Piso cerâmico ANTIDERRAPANTE, 30x30 (ou próximo a esta medida), PEI 5, aplicado com argamassa","m2",21.43,43.14,924.49,87247]
["7.9","Rodapé cerâmico de 7cm, colado com argamassa.","m",38.58,5.87,226.46,88648]
[8,"INSTALAÇÕES ELÉTRICAS",null,null,"∑ ",{"$f":"SUBTOTAL(9,F52:F78)","v":14385.03}]
["8.1","Ramal de Ligação"]
["8.1.1","Kit Postinho 50A Monofásico, Completo - Poste de Concreto H=8,0m Resistência de 100daN (fornecimento e instalação)","un",1,1744.93,{"$f":"ROUND((D53*E53),2)","v":1744.93},"MEL105"]
["8.1.2","Cabo de Alumínio Multiplexado 10mm2 - 1F+Neutro (fornecimento e instalação)","m",5,7.91,39.549999999999997,"CEL100"]
["8.1.3","Terminal para Cabo de Cobre 10mm2 (fornecimento e instalação)","un",2,30.38,60.76,72263]
["8.2","Ramal de Carga (do Medidor de Energia até Quadro de Disjuntor)"]
["8.2.1","Cabo de Cobre Isolado 10mm2 - 1KV (1F+N)","m",50,7.42,371,92980]
["8.2.2","Terminal para Cabo de Cobre 10mm2 (fornecimento e instalação)","un",2,30.38,60.76,72263]
["8.2.3","Eletroduto PEAD 1 1/2\" (fornecimento, escavação, assentamento e reaterro)","m",20,31.02,620.4,"CEL006"]
["8.2.4","Caixa de Passagem 30x30x40, Fundo de Brita e Tampa (fornecimento e instalação)","un",2,194.31,388.62,83446]
["8.2.5","Haste de Aterramento 5/8\"","un",2,62.99,125.98,96985]
["8.2.6","Conector tipo Grampo para Haste de Aterramento 5/8\" e Cabo de Cobre Isolado de 16mm2","un",2,14.2,28.4,"73767/1"]
["8.2.7","Cabo de Cobre Isolado 10mm2 - 1KV (Aterramento)","m",3,7.42,22.26,92980]
["8.3","Quadro de Distribuição"]
["8.3.1","Quadro de disjuntores sem barramento. (fornecimento e instalação) Conforme projeto","un",1,105.4,{"$f":"ROUND((D65*E65),2)","v":105.4},84402]
["8.3.2","Disjuntor monopolar 10A a 30A, (fornecimento e instalação)","un",5,17.420000000000002,{"$f":"ROUND((D66*E66),2)","v":87.1},"74130/1"]
["8.3.3","Disjuntor monopolar 45A, (fornecimento e instalação)","un",1,26.22,26.22,"74130/2"]
["8.4","Iluminação e Tomadas  "]
["8.4.1","Ponto de tomada 2P+T (caixa, eletroduto, fios e tomada c/ placa, (fornecimento e instalação), conforme projeto  ","un",18,190.36,3426.48,93141]
["8.4.2","Ponto de tomada 2P+T (caixa, eletroduto, fios e tomada c/ placa, (fornecimento e instalação), conforme projeto  ","un",1,186.75,186.75,"CEL022"]
["8.4.3","Ponto de luz ( caixa, eletroduto, fios, INTERRUPTORES, (fornecimento e instalação), conforme projeto ","un",23,160.69999999999999,3696.1,93128]
["8.4.4","Luminária Globo vidro leitoso/ Plafonier /bocal/Lampada compacta, (fornecimento e instalação), conforme projeto","un",15,126.39,{"$f":"ROUND((D72*E72),2)","v":1895.85},97592]
["8.4.5","Arandela (fornecimento e instalação), conforme projeto.","m",7,98.64,{"$f":"ROUND((D73*E73),2)","v":690.48},97607]
["8.5","Entrada para Comunicação"]
["8.5.1","Ponto de Comunicação SEM FIAÇÃO (caixa, eletroduto,  (fornecimento e instalação), conforme projeto ","un",1,117.3,117.3,"CEL001"]
["8.5.2","Caixa de passagem 30x30x40 em alvenaria, (fornecimento e instalação), Conforme projeto.","un",2,194.31,388.62,83446]
["8.5.3","Eletroduto PEAD 1 1/2\" da caixa de passagem até Q.D.  (fornecimento e instalação), Conforme projeto.","m",20,7.27,{"$f":"ROUND((D77*E77),2)","v":145.4},"MEL005"]
["8.5.4","Quadro de Distribuição para Comunicação 20X20X12cm (fornecimento e instalação), conforme projeto.","un",1,156.66999999999999,156.66999999999999,83371]
[9,"INSTALAÇÕES HIDRÁULICAS",null,null,"∑ ",{"$f":"SUBTOTAL(9,F80:F164)","v":17182.07}]
["9.1","Alimentação - PVC rígido soldável"]
["9.1.1","Curva 90 soldável - 25 mm","un",1,10.73,{"$f":"ROUND((D81*E81),2)","v":10.73},89364]
["9.1.2","Joelho 45º soldável 25mm","un ",2,9.51,19.02,89363]
["9.1.3","Tubo - 25mm ","m",4.8499999999999996,8.66,42,89402]
["9.2","Água fria - Aparelho"]
["9.2.1","Torneira de Lavatório - 25 mm - 1/2\" (joelho)","un",2,13.06,{"$f":"ROUND((D85*E85),2)","v":26.12},90373]
["9.2.2","Torneira de Pia de Cozinha - 25mm - 3/4\" (joelho)","un",2,13.93,27.86,89366]
["9.2.3","Vaso Sanitário p/ Válvula de Descarga de 1 1/2\" - 40mm - 1 1/2\"","un",2,246.55,493.1,99635]
["9.3","Água fria - Metais"]
["9.3.1","Registro de pressão c/ canopla cromada - 3/4''","un",4,29.5,{"$f":"ROUND((D89*E89),2)","v":118},89351]
["9.3.2","Válvula de Esfera 2'' ","pç.",1,110.02,110.02,94493]
["9.3.3","Válvula de descarga baixa pressão 1.1/2'' ","pç.",2,246.55,493.1,99635]
["9.4","Água fria - PVC Acessórios"]
["9.4.1","Engate flexível plástico 1/2 - 30cm PVC","pç.",2,8.56,{"$f":"ROUND((D93*E93),2)","v":17.12},86884]
["9.5","Água fria - PVC rígido soldável"]
["9.5.1","Adapt sold.curto c/bolsa-rosca p registro - 60 mm - 2\"","un",2,16.57,{"$f":"ROUND((D95*E95),2)","v":33.14},89610]
["9.5.2","Bucha de redução sold. Curta 32mm - 25mm","pç.",1,0.68,0.68,829]
["9.5.3","Curva 90 soldável - 32 mm","un",1,10.130000000000001,10.130000000000001,89494]
["9.5.4","Curva 90 soldável 50mm","pç.",1,19.3,19.3,89503]
["9.5.5","Joelho 45 soldável - 32 mm","un",1,13.41,13.41,89368]
["9.5.6","Joelho 45 soldável - 50mm ","pç.",1,13.35,13.35,89502]
["9.5.7","Joelho 90º soldável 25mm ","pç.",8,6.62,26.48,89362]
["9.5.8","Joelho 90º soldável 50mm","pç.",2,8.6,17.2,89501]
["9.5.9","Tubo de PVC 25mm ","m",14.86,8.66,{"$f":"ROUND((D103*E103),2)","v":128.69},89402]
["9.5.10","Tubo de PVC 32 mm","m",9.8699999999999992,13.49,133.15,89403]
["9.5.11","Tubo de PVC 40 mm","m",0.8,11.05,8.84,89448]
["9.5.12","Tubo de PVC 50mm ","m",9.0500000000000007,12.75,115.39,89449]
["9.5.13","Tubo de PVC 60mm ","m",3.5,20.79,72.77,89450]
["9.5.14","Tê de redução 90 soldável - 32 mm - 25 mm","un",1,11.36,11.36,89622]
["9.5.15","Tê de redução 90 soldável - 50 mm - 25 mm","un",1,17.43,17.43,89627]
["9.6","Água fria - PVC soldável azul c/ bucha latão"]
["9.6.1","Joelho 90º soldável com  bucha de latão - 25 mm - 3/4\"","un",2,11.36,{"$f":"ROUND((D111*E111),2)","v":22.72},89622]
["9.6.2","Joelho de redução 90º soldável com bucha de latão 25mm - 1/2'' ","pç.",2,13.93,{"$f":"ROUND((D112*E112),2)","v":27.86},89366]
["9.7","Esgoto - Caixa de Passagem "]
["9.7.1","Caixa de gordura - CG 60x60 cm","un",1,162.75,{"$f":"ROUND((D114*E114),2)","v":162.75},98103]
["9.7.2","Caixa de inspeção esgoto simples CE 60x60cm","pç.",3,246.28,{"$f":"ROUND((D115*E115),2)","v":738.84},"74166/1"]
["9.8","Esgoto - PVC Acessórios "]
["9.8.1","Caixa Sifonada 150x150x50 ","pç.",2,22.25,{"$f":"ROUND((D117*E117),2)","v":44.5},89482]
["9.8.2","Sifão de copo p/ pia e lavatório - 1'' - 1 1/2''","un",2,22.25,{"$f":"ROUND((D118*E118),2)","v":44.5},89482]
["9.8.3","Sifão de copo p/ pia e lavatório - 1\" - 2\"","un",2,52.13,{"$f":"ROUND((D119*E119),2)","v":104.26},89491]
["9.8.4","Válvula p/ lavatório e tanque - 1''","un",2,6.93,{"$f":"ROUND((D120*E120),2)","v":13.86},86879]
["9.8.5","Válvula p/ pia - 1''","un",2,6.93,{"$f":"ROUND((D121*E121),2)","v":13.86},86879]
["9.9","Esgoto - PVC Esgoto"]
["9.9.1","Curva 90 curta PVC 100mm","pç.",2,30.86,{"$f":"ROUND((D123*E123),2)","v":61.72},89748]
["9.9.2","Curva 90 curta PVC 50mm","pç.",2,14.95,29.9,89733]
["9.9.3","Curva 90 curta PVC 40mm","pç.",1,9.26,9.26,89728]
["9.9.4","Joelho 45 - 40 mm","un",2,7.08,14.16,89726]
["9.9.5","Joelho 45 - 50 mm","un",1,10.51,10.51,89732]
["9.9.6","Joelho 90 - 50mm","pç.",6,10.1,60.6,89731]
["9.9.7","Joelho 90 c/anel p/ esgoto secundário PVC 40mm - 1.1/2''","pç.",2,10.1,20.2,89731]
["9.9.8","Junção simples - 100 mm - 50 mm","un",2,18.329999999999998,36.659999999999997,89785]
["9.9.9","Luva simples - 100mm","pç.",2,11.98,23.96,89821]
["9.9.10","Tubo rígido c/ ponta lisa - 100mm - 4''","m",19.559999999999999,52.82,1033.1600000000001,89714]
["9.9.11","Tubo rígido c/ ponta lisa - 40mm ","m",2.2599999999999998,18.72,42.31,89711]
["9.9.12","Tubo rígido c/ ponta lisa - 50mm -2''","m",8.69,26.88,233.59,89712]
["9.9.13","Tubo rígido c/ ponta lisa - 75 mm - 3\"","m",7.53,40.79,307.14999999999998,89713]
["9.9.14","Tê sanitário PVC - 50mm - 50mm","pç.",2,17.16,34.32,89784]
["9.10","Pluvial - Caixa de Passagem "]
["9.10.1","Caixa de areia pluvial sem grelha CA - 60x60cm","pç.",2,246.28,{"$f":"ROUND((D138*E138),2)","v":492.56},"74166/1"]
["9.11","Pluvial - PVC Esgoto"]
["9.11.1","Curva 90 curta - 100mm","pç.",6,30.86,{"$f":"ROUND((D140*E140),2)","v":185.16},89748]
["9.11.2","Curva 90 curta - 75mm","pç.",1,33.51,{"$f":"ROUND((D141*E141),2)","v":33.51},89743]
["9.11.3","Junção simples - 100 mm - 75 mm","pç.",1,53.14,{"$f":"ROUND((D142*E142),2)","v":53.14},89569]
["9.11.4","Tubo rígido c/ ponta lisa  - 100mm - 4''","m",38.86,52.82,{"$f":"ROUND((D143*E143),2)","v":2052.59},89714]
["9.11.5","Tubo rígido c/ ponta lisa  - 75mm - 3''","m",4.6900000000000004,40.79,{"$f":"ROUND((D144*E144),2)","v":191.31},89713]
["9.12","Ventilação - PVC Esgoto"]
["9.12.1","Tubo rígido c/ ponta lisa  - 50mm 2''","m",7.48,26.88,{"$f":"ROUND((D146*E146),2)","v":201.06},89712]
["9.13","Componentes Sanitários"]
["9.13.1","Caixa d'água 750L - Incluso Tampa","un",1,825.2,{"$f":"ROUND((D148*E148),2)","v":825.2},"CHI006"]
["9.13.2","Vaso sanitário ","un",2,196.13,{"$f":"ROUND((D149*E149),2)","v":392.26},95469]
["9.13.3","Torneira cromada tubo móvel de parede 1/2\" ou 3/4\" para pia de cozinha , padrão médio - fornecimento e instalação","un",2,115.94,{"$f":"ROUND((D150*E150),2)","v":231.88},86910]
["9.13.4","Tanque aço inox chapa 22/304 50x40cm - 24 L, com torneira e sifão","un",1,489.61,{"$f":"ROUND((D151*E151),2)","v":489.61},11688]
["9.13.5","Lavatório louça branca suspenso, 29,5 x 39cm ou equivalente, padrãopular, incluso sifão tipo garrafa em pvc, válvula e engate flexívelcm em plástico e torneira cromada de mesa, padrão popular - fornecimto e instalação. (modelo redondo)","un",2,215.75,{"$f":"ROUND((D152*E152),2)","v":431.5},86942]
["9.13.6","Dispenser para papel toalha ","un.",2,86.44,{"$f":"ROUND((D153*E153),2)","v":172.88},37401]
["9.13.7","Dispenser para papel higienico ","un.",2,86.44,{"$f":"ROUND((D154*E154),2)","v":172.88},37400]
["9.13.8","Dispenser para sabonete liquido","un.",2,83.03,{"$f":"ROUND((D155*E155),2)","v":166.06},11758]
["9.13.9","Espelho cristal espessura 4mm, com moldura de madeira, dimensõa 50cm x 90 cm (02 unidades)","m2",0.45,478.6,{"$f":"ROUND((D156*E156),2)","v":215.37},"74125/1"]
["9.13.10","Placa de informação visual, em acrílico ","un",2,52.69,{"$f":"ROUND((D157*E157),2)","v":105.38},10851]
["9.13.11","Barras de Apoio"]
["9.13.11.1","Barra de Apoio Angular, 60cm, em Aço Inox Polido (fornecimento e instalação)","un",2,239.51,{"$f":"ROUND((D159*E159),2)","v":479.02},"CAC003"]
["9.13.11.2","Barra de Apoio Reta, em Alumínio, 40cm (fornecimento e instalação)","un",4,115.81,{"$f":"ROUND((D160*E160),2)","v":463.24},"CAC004"]
["9.13.11.3","Barra de Apoio Reta, em Alumínio, 70cm (fornecimento e instalação)","un",2,130.74,{"$f":"ROUND((D161*E161),2)","v":261.48},"CAC005"]
["9.13.11.4","Barra de Apoio Reta, em Alumínio, 80cm (fornecimento e instalação)","un",4,140.29,{"$f":"ROUND((D162*E162),2)","v":561.16},"CAC006"]
["9.14","Fossa Séptica","un",1,1919.75,{"$f":"ROUND((D163*E163),2)","v":1919.75},"CHI100"]
["9.15","Filtro Anaeróbio","un",1,2016.03,{"$f":"ROUND((D164*E164),2)","v":2016.03},"CHI101"]
[10,"PREV. CONTRA INCÊNDIO (CIVIL)",null,null,"∑ ",{"$f":"SUBTOTAL(9,F166:F169)","v":669.14}]
["10.1","Registro de Fecho rápido, com ponta para engate de mangueira - 1/2\"","un",2,12.88,25.76,72676]
["10.2","Tubo de Cobre com costura 3/8\", inclusive conexões - Fornecimento e Instalação","m",1,27.88,27.88,"74061/1"]
["10.3","Extintor Incêndio TP Pó Químico 4kg Fornecimento e Colocação","un ",2,141.26,565.04,"73775/1"]
["10.4","Placa Indicativa de Lotação, 80 x 60, em acrílico","un",2,50.46,50.46,84121]
[11,"ESQUADRIAS",null,null,"∑ ",{"$f":"SUBTOTAL(9,F171:F188)","v":26658.429999999993}]
["11.1","Porta"]
["11.1.1","P1 - Porta - 0,90x2,10 - 1 Folha de Abrir - Madeira Compensada (02 unidades) ","m2",1.89,938.54,{"$f":"ROUND((D172*E172),2)","v":1773.84},91315]
["11.1.2","P2 - Porta - 0,90x2,10 - 1 Folha de Correr - Madeira Compensada (01 unidade)","m2",1.89,938.54,1773.84,91315]
["11.2","P3 - Porta - 0,90x2,45 - 1 Folha de Abrir + Bandeira Maxim Ar - Alumínio e Vidro (01 unidade)"]
["11.2.1","Porta de Alumínio - 1 Folha de Abrir","m2",1.89,1338.21,{"$f":"ROUND((D175*E175),2)","v":2529.2199999999998},91338]
["11.2.2","Bandeira Maxim Ar Alumínio, incluso vidro","m2",0.315,833.22,262.45999999999998,94581]
["11.3","P4 - Porta - 0,50x1,00- 1 Folha de Abrir tipo Veneziana - Alumínio  (01 unidade)","m2",0.5,1338.21,{"$f":"ROUND((D177*E177),2)","v":669.11},91338]
["11.4","P4 - Porta - 1,60X1,60- 2 Folhas de Abrir tipo Veneziana - Alumínio  (01 unidade)","m2",2.56,1338.21,{"$f":"ROUND((D178*E178),2)","v":3425.82},91338]
["11.4","Janela"]
["11.4.1","J1 - Janela - 0,60x0,60 - Maxim Ar -Alumínio e Vidro (Incluso Vidro) (2 Unidades)","m2",0.72,833.22,599.91999999999996,94581]
["11.4.2","J2 - Janela - 0,60x2,45 - Vidro Fixo e Maxim Ar - Alumínio e Vidro (Incluso Vidro) (2 Unidades)","m2",2.94,833.22,{"$f":"ROUND((D181*E181),2)","v":2449.67},94581]
["11.4.3","J3 - Janela - 1,00x1,45 - Vidro Fixo e Maxim Ar -Alumínio e Vidro (Incluso Vidro) (2 Unidades)","m2",2.9,833.22,{"$f":"ROUND((D182*E182),2)","v":2416.34},94581]
["11.4.4","J4 - Janela - 3,00x2,85 - Vidro Fixo e Maxim Ar -Alumínio e Vidro (Incluso Vidro) (1 Unidade)","m2",8.5500000000000007,833.22,{"$f":"ROUND((D183*E183),2)","v":7124.03},94581]
["11.4.5","PJ1 - Janela - 2,43x2,85 - 1 Folha de Correr - Alumínio e Vidro - (1 Unidade) ","m2",6.9255000000000004,515.27,{"$f":"ROUND((D184*E184),2)","v":3568.5},94582]
["11.4.6","V1 - Janela - 0,20x0,10 - Veneziana -Alumínio (1 Unidade)","m2",2.0000000000000004E-2,820.77,{"$f":"ROUND((D185*E185),2)","v":16.420000000000002},4917]
["11.4.7","V2 - Janela - 0,20x0,10 - Veneziana -Alumínio (1 Unidade)","m2",2.0000000000000004E-2,820.77,{"$f":"ROUND((D186*E186),2)","v":16.420000000000002},4917]
["11.4.8","V3 - Janela - 0,20x0,10 - Veneziana -Alumínio (1 Unidade)","m2",2.0000000000000004E-2,820.77,{"$f":"ROUND((D187*E187),2)","v":16.420000000000002},4917]
["11.4.9","V4 - Janela - 0,20x0,10 - Veneziana -Alumínio (1 Unidade)","m2",2.0000000000000004E-2,820.77,{"$f":"ROUND((D188*E188),2)","v":16.420000000000002},4917]
[12,"COMPLEMENTAÇÕES",null,null,"∑ ",{"$f":"SUBTOTAL(9,F190:F191)","v":1043.74}]
["12.1","Guarda Corpo com corrimão em tubo de aço galvanizado 1 1/2\" ","m",3.7,259.7,{"$f":"ROUND((D190*E190),2)","v":960.89},84862]
["12.2","Granito para detalhe de Guarda Corpo","m2",0.25,331.4,82.85,98671]
[13,"PINTURA ",null,null,"∑ ",{"$f":"SUBTOTAL(9,F193:F198)","v":9298.31}]
["13.1","Fundo preparador para pintura acrílica, um demão","m2",460.41,2.93,{"$f":"ROUND((D193*E193),2)","v":1349},88415]
["13.2","Pintura  acrílica (2 demãos)","m2",460.41,14.29,{"$f":"ROUND((D194*E194),2)","v":6579.26},88489]
["13.3","Pintura esmalte brilhante para madeira (esquadrias), duas demãos, incluso aparelhamento com fundo nivelador branco fosco.","m2",11.34,29.29,{"$f":"ROUND((D195*E195),2)","v":332.15},"74065/3"]
["13.4","Tratamento estrutura metálica  - da superfície com jato de areia","m2",20.240000000000002,18.89,382.33,73656]
["13.5","Tratamento estrutura metálica - da superfície com uma demão de prime epóxi, espesura e= 25µ ","m2",20.240000000000002,10.67,215.96,"73865/1"]
["13.6","Pintura superfície metálica em duas demãos de esmalte epóxi, espessura 125 μ; ","m2",20.240000000000002,21.72,439.61,"74145/1"]
[14,"ACESSIBILIDADE",null,null,"∑ ",{"$f":"SUBTOTAL(9,F200:F209)","v":6786.7000000000016}]
["14.1","Placa Tátil Braille para Sinalização de Ambientes de Acrílico com Nome do Ambiente, 20x12cm","UN",6,55.89,{"$f":"ROUND((D200*E200),2)","v":335.34},"CAC012"]
["14.2","Podotátil Direcional ou Alerta de PVC Colorido, 25x25cm, Colado, e=5cm (fornecimento e assentamento)","M2",3.1,188.9,{"$f":"ROUND((D201*E201),2)","v":585.59},"CED109"]
["14.3","Vaga Acessível"]
["14.3.1","Regularização e Apiloamento Manual","m2",67.44,1.52,{"$f":"ROUND((D203*E203),2)","v":102.51},72961]
["14.3.2","Lastro de Brita Graduada para Piso de Concreto, e=10cm","m3",6.7439999999999998,98.99,667.59,88549]
["14.3.3","Lona 200 Micras (fornecimento e instalação)","m2",67.44,6.02,405.99,68053]
["14.3.4","Tela Soldada Q-92 - Aço CA-60 4.2mm - Malha 15x15cm (fornecimento, corte e instalação)","m2",67.44,13.51,911.11,85662]
["14.3.5","Piso em Concreto 25 Mpa , e=10cm","m3",6.7439999999999998,377.56,2546.2600000000002,"CED100"]
["14.3.6","Pintura Acrílica sobre Piso de Concreto (duas demaos)","m2",7.44,17.52,{"$f":"ROUND((D208*E208),2)","v":130.35},"74245/1"]
["14.3.7","Placas de PCD e Idoso","un",2,550.98,{"$f":"ROUND((D209*E209),2)","v":1101.96},"COM003"]
[]
[null,null,null,null,"TOTAL",{"$f":"SUBTOTAL(9,F5:F210)","v":199488.64000000001}]

{"sheet":"CRONOGRAMA","index":1,"n_rows":23,"n_cols":14,"rows_kept":23,"cut":false,"hidden":false,"merged":[[3,1,3,3],[1,0,1,3]]}
[]
["CRONOGRAMA FÍSICO FINANCEIRO"]
[]
[null,"VALORES EM REAIS"]
["ITEM ","DESCRIÇÃO ","TOTAL","%","1º MÊS","%","2º MÊS","%","3º MÊS","%","4º MÊS","%","5º MÊS","%"]
[]
[1,{"$f":"ORÇAMENTO!B5","v":"SERVIÇOS INICIAIS"},{"$f":"ORÇAMENTO!F5","v":14261.96},{"$f":"C7*100/$C$22","v":7.1492592259890069},{"$f":"$C$7*F7/100","v":14261.96},100,{"$f":"$C$7*H7/100","v":0},null,{"$f":"$C$7*J7/100","v":0},null,{"$f":"$C$7*L7/100","v":0},null,{"$f":"$C$7*N7/100","v":0}]
[2,{"$f":"ORÇAMENTO!B11","v":"INFRAESTRUTURA"},{"$f":"ORÇAMENTO!F11","v":22450.799999999999},11.254174673805984,{"$f":"$C$8*F8/100","v":11225.4},50,{"$f":"$C$8*H8/100","v":11225.4},50,{"$f":"$C$8*J8/100","v":0},null,{"$f":"$C$8*L8/100","v":0},null,{"$f":"$C$8*N8/100","v":0}]
[3,{"$f":"ORÇAMENTO!B18","v":"SUPRAESTRUTURA"},{"$f":"ORÇAMENTO!F18","v":30436.900000000005},15.257460274429661,{"$f":"$C$9*F9/100","v":15218.450000000003},50,{"$f":"$C$9*H9/100","v":15218.450000000003},50,{"$f":"$C$9*J9/100","v":0},null,{"$f":"$C$9*L9/100","v":0},null,{"$f":"$C$9*N9/100","v":0}]
[4,{"$f":"ORÇAMENTO!B25","v":"FECHAMENTOS"},{"$f":"ORÇAMENTO!F25","v":12910.32},6.4717068600999017,{"$f":"$C$10*F10/100","v":0},null,{"$f":"$C$10*H10/100","v":6455.16},50,{"$f":"$C$10*J10/100","v":6455.16},50,{"$f":"$C$10*L10/100","v":0},null,{"$f":"$C$10*N10/100","v":0}]
[5,{"$f":"ORÇAMENTO!B28","v":"COBERTURA"},{"$f":"ORÇAMENTO!F28","v":13314.85},6.6744903368933679,{"$f":"$C$11*F11/100","v":0},null,{"$f":"$C$11*H11/100","v":0},null,{"$f":"$C$11*J11/100","v":6657.4250000000002},50,{"$f":"$C$11*L11/100","v":6657.4250000000002},50,{"$f":"$C$11*N11/100","v":0}]
[6,{"$f":"ORÇAMENTO!B36","v":"REVESTIMENTOS"},{"$f":"ORÇAMENTO!F36","v":17651.97},8.8486091238077496,{"$f":"$C$12*F12/100","v":0},null,{"$f":"$C$12*H12/100","v":0},null,{"$f":"$C$12*J12/100","v":8825.9850000000006},50,{"$f":"$C$12*L12/100","v":8825.9850000000006},50,{"$f":"$C$12*N12/100","v":0}]
[7,{"$f":"ORÇAMENTO!B41","v":"PISO"},{"$f":"ORÇAMENTO!F41","v":12438.419999999998},6.2351520367275022,{"$f":"$C$13*F13/100","v":0},null,{"$f":"$C$13*H13/100","v":0},null,{"$f":"$C$13*J13/100","v":0},null,{"$f":"$C$13*L13/100","v":6219.2099999999991},50,{"$f":"$C$13*N13/100","v":6219.2099999999991},50]
[8,{"$f":"ORÇAMENTO!B51","v":"INSTALAÇÕES ELÉTRICAS"},{"$f":"ORÇAMENTO!F51","v":14385.03},7.21095196197638,{"$f":"$C$14*F14/100","v":2157.7545},15,{"$f":"$C$14*H14/100","v":2157.7545},15,{"$f":"$C$14*J14/100","v":5034.7605000000003},35,{"$f":"$C$14*L14/100","v":2877.0060000000003},20,{"$f":"$C$14*N14/100","v":2157.7545},15]
[9,{"$f":"ORÇAMENTO!B79","v":"INSTALAÇÕES HIDRÁULICAS"},{"$f":"ORÇAMENTO!F79","v":17182.07},8.6130568637893354,{"$f":"$C$15*F15/100","v":2577.3105},15,{"$f":"$C$15*H15/100","v":2577.3105},15,{"$f":"$C$15*J15/100","v":6013.7244999999994},35,{"$f":"$C$15*L15/100","v":3436.4140000000002},20,{"$f":"$C$15*N15/100","v":2577.3105},15]
[10,{"$f":"ORÇAMENTO!B165","v":"PREV. CONTRA INCÊNDIO (CIVIL)"},{"$f":"ORÇAMENTO!F165","v":669.14},0.33542762134224779,{"$f":"$C$16*F16/100","v":100.37100000000001},15,{"$f":"$C$16*H16/100","v":100.37100000000001},15,{"$f":"$C$16*J16/100","v":234.19899999999998},35,{"$f":"$C$16*L16/100","v":133.828},20,{"$f":"$C$16*N16/100","v":100.37100000000001},15]
[11,{"$f":"ORÇAMENTO!B170","v":"ESQUADRIAS"},{"$f":"ORÇAMENTO!F170","v":26658.429999999993},13.363382496366702,{"$f":"$C$17*F17/100","v":0},null,{"$f":"$C$17*H17/100","v":0},null,{"$f":"$C$17*J17/100","v":0},null,{"$f":"$C$17*L17/100","v":13329.214999999995},50,{"$f":"$C$17*N17/100","v":13329.214999999995},50]
[12,{"$f":"ORÇAMENTO!B189","v":"COMPLEMENTAÇÕES"},{"$f":"ORÇAMENTO!F189","v":1043.74},0.5232077375433507,{"$f":"$C$18*F18/100","v":0},null,{"$f":"$C$18*H18/100","v":0},null,{"$f":"$C$18*J18/100","v":0},null,{"$f":"$C$18*L18/100","v":0},null,{"$f":"$C$18*N18/100","v":1043.74},100]
[13,{"$f":"ORÇAMENTO!B192","v":"PINTURA "},{"$f":"ORÇAMENTO!F192","v":9298.31},4.6610724299889945,{"$f":"$C$19*F19/100","v":0},null,{"$f":"$C$19*H19/100","v":0},null,{"$f":"$C$19*J19/100","v":0},null,{"$f":"$C$19*L19/100","v":0},null,{"$f":"$C$19*N19/100","v":9298.31},100]
[14,{"$f":"ORÇAMENTO!B199","v":"ACESSIBILIDADE"},{"$f":"ORÇAMENTO!F199","v":6786.7000000000016},3.4020483572397904,{"$f":"$C$19*F20/100","v":0},null,{"$f":"$C$19*H20/100","v":0},null,{"$f":"$C$19*J20/100","v":0},null,{"$f":"$C$19*L20/100","v":0},null,{"$f":"$C$20*N20/100","v":6786.7000000000007},100]
[]
[null,"SUBTOTAL",{"$f":"SUM(C7:C20)","v":199488.64000000004},{"$f":"SUM(D7:D20)","v":99.999999999999957},{"$f":"SUM(E7:E21)","v":45541.246000000006},{"$f":"E22*100/$C$22","v":22.828992167173027},{"$f":"SUM(G7:G21)","v":37734.446000000004},{"$f":"G22*100/$C$22","v":18.915586371233971},{"$f":"SUM(I7:I21)","v":33221.254000000001},{"$f":"I22*100/$C$22","v":16.653205916888297},{"$f":"SUM(K7:K21)","v":41479.082999999999},{"$f":"K22*100/$C$22","v":20.792704286319257},{"$f":"SUM(M7:M21)","v":41512.61099999999},{"$f":"M22*100/$C$22","v":20.809511258385431}]
[null,"TOTAL ACUMULADO",null,null,{"$f":"E22","v":45541.246000000006},{"$f":"F22","v":22.828992167173027},{"$f":"E23+G22","v":83275.69200000001},41.744578538406998,116496.94600000001,58.397784455295294,157976.02900000001,79.190488741614558,199488.64000000001,99.999999999999986]

{"sheet":"BDI 20,34%","index":2,"n_rows":31,"n_cols":5,"rows_kept":31,"cut":false,"hidden":false,"merged":[[2,1,2,4],[1,1,1,4],[4,1,5,4],[11,1,13,1],[11,3,13,3]]}
[]
[null,"COMPOSIÇÃO DE BDI "]
[]
[]
[null,"O valor do BDI é obtido pela fórmula e taxas abaixo"]
[]
[]
[]
[null,"FÓRMULA BDI "]
[]
[]
[null,"BDI ="," (1+AC+S+R+G)(1+DF)(1+L)  ",-1]
[null,null,"_______________________________________            "]
[null,null,"(1-I)"]
[]
[]
[null,"ONDE:"]
[null,"AC =  Taxa de Administração Central",null,null,0.03]
[null,"S = Taxa de Seguros",null,null,4.0000000000000001E-3]
[null,"G = Taxa de Garantias",null,null,4.0000000000000001E-3]
[null,"R = Taxa de Riscos",null,null,9.7000000000000003E-3]
[null,"DF = Taxa de Despesas Financeiras",null,null,5.8999999999999999E-3]
[null,"L = Taxa de Lucro / Remuneração",null,null,7.17E-2]
[null,"I = Taxa de Incidência de Impostos (EMPRESA DESONERADA)",null,null,{"$f":"D27","v":6.1499999999999999E-2}]
[null,null,"I1: PIS e COFINS",3.6499999999999998E-2]
[null,null,"I2: ISSQN (conforme legislação municipal)",2.5000000000000001E-2]
[null,null,"∑",{"$f":"SUM(D25:D26)","v":6.1499999999999999E-2}]
[]
[null,"TEMOS ENTÃO ENTRANDO COM OS DADOS NA FÓRMULA"]
[]
[null,"BDI =",{"$f":"TRUNC(((((1+E18+E19+E20+E21)*(1+E22)*(1+E23))/(1-E24))-1),4)","v":0.2034}]