{"text_format":"1","workbook":"xlsx","n_sheets":3,"sheets":["CRONOGRAMA","FISICO","BDI"],"not_rendered":{"charts":0,"images":0,"macros":1,"external_links":1,"defined_names":0,"comments":0,"pivot_tables":0},"unopened":[],"bounds":{"document_bytes":16777216,"sheet_cells":100000,"rows_first":2000,"rows_last":500,"rows_between":2000,"halvings":0,"cell_chars":16384,"cell_head_chars":4096},"cells_cut":0,"cells_raw":0,"read":"whole","date_system":"1900"}

{"sheet":"CRONOGRAMA","index":0,"n_rows":179,"n_cols":12,"rows_kept":179,"cut":false,"hidden":false,"merged":[]}
[]
[]
[]
[]
[]
[]
[]
[]
[]
[]
[]
[]
[null,null,"TODOS OS VALORES ESTÃO NA UNIDADE MONETÁRIA REAL"]
[null,null,"ITEM ","SERVIÇO ","UN","QUANT.","VALOR \n(S/ BDI)","BDI","VALOR \n(C/ BDI)","VALOR TOTAL","CÓDIGO ","FONTE"]
[null,null,1,{"$f":"[1]QUANT!C8","v":"CANTEIRO DE OBRA"},null,null,null,null,"∑ ",{"$f":"J16","v":450}]
[null,null,"1.1",{"$f":"[1]QUANT!C9","v":"Placa de Obra em Lona com quadro de madeira"},"M2",{"$f":"ROUND([1]QUANT!E9,2)","v":2.88},75,{"$f":"[1]BDI!$C$31","v":0.2034},{"$f":"ROUND(((G16*H16)+G16),2)","v":90.26},450,"MED200","MERCADO"]
[null,null,2,"DEMOLIÇÃO",null,null,null,null,"∑ ",{"$f":"SUM(J19:J24)","v":5525.09}]
[null,null,"2.1","Parede de Alvenaria"]
[null,null,"2.1.1","Remoção de parede - mão de obra","M3",1.46,157.63999999999999,0.2034,{"$f":"ROUND(((G19*H19)+G19),2)","v":189.7},{"$f":"IF(ISERR(ROUND(ROUND(F19,2)*I29,2)),\"\",ROUND(ROUND(F19,2)*I19,2))","v":276.95999999999998},97623,"SINAPI-C"]
[null,null,"2.1.2","Remoção de porta/janela (0,80 x 2,40m) - mão de obra","M2",2.02,250,0.2034,{"$f":"ROUND(((G20*H20)+G20),2)","v":300.85000000000002},{"$f":"IF(ISERR(ROUND(ROUND(F20,2)*I30,2)),\"\",ROUND(ROUND(F20,2)*I20,2))","v":607.72},"MED201","MERCADO"]
[null,null,"2.1.3","Remoção de janela alumínio e vidro (5,86 x 1,10m) - mão de obra","M2",6.77,500,0.2034,{"$f":"ROUND(((G21*H21)+G21),2)","v":601.70000000000005},{"$f":"IF(ISERR(ROUND(ROUND(F21,2)*I31,2)),\"\",ROUND(ROUND(F21,2)*I21,2))","v":4073.51},"MED202","MERCADO"]
[null,null,"2.1.4","Remoção de janela alumínio e vidro (1,00 x 1,10m) - mão de obra","M2",1.1599999999999999,250,0.2034,{"$f":"ROUND(((G22*H22)+G22),2)","v":300.85000000000002},348.99,"MED203","MERCADO"]
[null,null,"2.1.5","Remoção de Telhamento","M2",16.66,4,0.2034,4.8099999999999996,80.13,97649,"SINAPI-C"]
[null,null,"2.1.6","Remoção de Estrutura de Madeira do Telhado","M2",16.66,6.87,0.2034,{"$f":"ROUND(((G24*H24)+G24),2)","v":8.27},137.78,97650,"SINAPI-C"]
[null,null,3,{"$f":"[1]QUANT!C27","v":"INFRAESTRUTURA"},null,null,null,null,"∑ ",{"$f":"SUM(J27:J42)","v":13704.099999999999}]
[null,null,"3.1","Escavação"]
[null,null,"3.1.1","Escavação Manual para Bloco/Sapata, com previsão de fôrma","M3",2.54,90.65,{"$f":"[1]BDI!$C$31","v":0.2034},{"$f":"ROUND(((G27*H27)+G27),2)","v":109.09},{"$f":"IF(ISERR(ROUND(ROUND(F27,2)*I27,2)),\"\",ROUND(ROUND(F27,2)*I27,2))","v":277.08999999999997},96523,"SINAPI-C"]
[null,null,"3.1.2","Escavação Manual para Viga Baldrame, com previsão de fôrma","M3",2.59,118.94,{"$f":"[1]BDI!$C$31","v":0.2034},{"$f":"ROUND(((G28*H28)+G28),2)","v":143.13},370.71,96527,"SINAPI-C"]
[null,null,"3.2","Lastro de Brita Graduada"]
[null,null,"3.2.1","Lastro de Brita Graduada para Fundo de Valas das Fundações, esp.=5cm","M3",0.57999999999999996,190.68,{"$f":"[1]BDI!$C$31","v":0.2034},{"$f":"ROUND(((G30*H30)+G30),2)","v":229.46},{"$f":"IF(ISERR(ROUND(ROUND(F30,2)*I30,2)),\"\",ROUND(ROUND(F30,2)*I30,2))","v":133.09},96621,"SINAPI-C"]
[null,null,"3.3","Fôrma",null,""]
[null,null,"3.3.1","Fôrma de Madeira para Concreto (material e mão-de-obra para fabricação, montagem e desforma) - Blocos de Coroamento e Pilares de Fundação","M2",8.57,121.92,{"$f":"[1]BDI!$C$31","v":0.2034},{"$f":"ROUND(((G32*H32)+G32),2)","v":146.72},{"$f":"IF(ISERR(ROUND(ROUND(F32,2)*I32,2)),\"\",ROUND(ROUND(F32,2)*I32,2))","v":1257.3900000000001},"CED005","COMPOSIÇÃO"]
[null,null,"3.3.2","Fôrma de Madeira para Concreto, (material e mão-de-obra para fabricação, montagem e desforma) - Vigas Baldrame","M2",24.18,60.94,{"$f":"[1]BDI!$C$31","v":0.2034},{"$f":"ROUND(((G33*H33)+G33),2)","v":73.34},1773.36,"CED007","COMPOSIÇÃO"]
[null,null,"3.4","Armadura",null,""]
[null,null,"3.4.1","Armadura CA-50 - 8.0mm (fornecimento, corte, dobra e colocação)","KG",58.1,17.010000000000002,{"$f":"[1]BDI!$C$31","v":0.2034},{"$f":"ROUND(((G35*H35)+G35),2)","v":20.47},{"$f":"IF(ISERR(ROUND(ROUND(F35,2)*I35,2)),\"\",ROUND(ROUND(F35,2)*I35,2))","v":1189.31},96545,"SINAPI-C"]
[null,null,"3.4.2","Armadura CA-50 - 10.0mm (fornecimento, corte, dobra e colocação)","KG",138,15.83,{"$f":"[1]BDI!$C$31","v":0.2034},19.05,2628.9,96546,"SINAPI-C"]
[null,null,"3.4.3","Armadura CA-50 - 12.5mm (fornecimento, corte, dobra e colocação)","KG",46.4,13.34,{"$f":"[1]BDI!$C$31","v":0.2034},16.05,744.72,96547,"SINAPI-C"]
[null,null,"3.4.4","Armadura CA-60 - 5.0mm (fornecimento, corte, dobra e colocação)","KG",49,18.91,{"$f":"[1]BDI!$C$31","v":0.2034},{"$f":"ROUND(((G38*H38)+G38),2)","v":22.76},1115.24,96543,"SINAPI-C"]
[null,null,"3.5","Concreto",null,""]
[null,null,"3.5.1","Concreto Feito no Local, Fck= 25MPa (fornecimento, lançamento, adensamento e bombeado)","M3",5.13,527.01,{"$f":"[1]BDI!$C$31","v":0.2034},{"$f":"ROUND(((G40*H40)+G40),2)","v":634.20000000000005},{"$f":"IF(ISERR(ROUND(ROUND(F40,2)*I40,2)),\"\",ROUND(ROUND(F40,2)*I40,2))","v":3253.45},"CED002","COMPOSIÇÃO"]
[null,null,"3.6","Impermeabilização",null,""]
[null,null,"3.6.1","Impermeabilização das Vigas Baldrames com Manta Asfáltica e=3mm, incluindo Emulsão Asfáltica","M2",8.4700000000000006,94.27,{"$f":"[1]BDI!$C$31","v":0.2034},{"$f":"ROUND(((G42*H42)+G42),2)","v":113.44},{"$f":"IF(ISERR(ROUND(ROUND(F42,2)*I42,2)),\"\",ROUND(ROUND(F42,2)*I42,2))","v":960.84},98546,"SINAPI-C"]
[null,null,4,{"$f":"[1]QUANT!C31","v":"SUPRAESTRUTURA"},null,"",null,null,"∑ ",{"$f":"SUM(J45,J46,J48,J49,J50,J51,J52,J54,J55)","v":10098.839999999998}]
[null,null,"4.1","Fôrma",null,""]
[null,null,"4.1.1","Fôrma de Madeira Serrada para Concreto, (material e mão-de-obra para fabricação, montagem e desforma) - Pilares","M2",21.17,88.16,{"$f":"[1]BDI!$C$31","v":0.2034},{"$f":"ROUND(((G45*H45)+G45),2)","v":106.09},{"$f":"IF(ISERR(ROUND(ROUND(F45,2)*I45,2)),\"\",ROUND(ROUND(F45,2)*I45,2))","v":2245.9299999999998},"CED008","COMPOSIÇÃO"]
[null,null,"4.1.2","Fôrma de Madeira Serrada para Concreto, (material e mão-de-obra para fabricação, montagem e desforma) - Vigas Superiores","M2",21.57,104.89,{"$f":"[1]BDI!$C$31","v":0.2034},{"$f":"ROUND(((G46*H46)+G46),2)","v":126.22},2722.57,"CED009","COMPOSIÇÃO"]
[null,null,"4.2","Armadura",null,""]
[null,null,"4.2.1","Armadura CA-50 - 8.0mm (fornecimento, corte, dobra e colocação)","KG",15.7,17.71,{"$f":"[1]BDI!$C$31","v":0.2034},{"$f":"ROUND(((G48*H48)+G48),2)","v":21.31},{"$f":"IF(ISERR(ROUND(ROUND(F48,2)*I48,2)),\"\",ROUND(ROUND(F48,2)*I48,2))","v":334.57},92777,"SINAPI-C"]
[null,null,"4.2.2","Armadura CA-50 - 10.0mm (fornecimento, corte, dobra e colocação)","KG",62.4,15.76,{"$f":"[1]BDI!$C$31","v":0.2034},18.97,1183.73,92778,"SINAPI-C"]
[null,null,"4.2.3","Armadura CA-50 - 12.5mm (fornecimento, corte, dobra e colocação)","KG",12.4,13.2,{"$f":"[1]BDI!$C$31","v":0.2034},15.88,196.91,92779,"SINAPI-C"]
[null,null,"4.2.4","Armadura CA-60 - 5.0mm (fornecimento, corte, dobra e colocação)","KG",40.200000000000003,19.010000000000002,{"$f":"[1]BDI!$C$31","v":0.2034},{"$f":"ROUND(((G51*H51)+G51),2)","v":22.88},919.78,92775,"SINAPI-C"]
[null,null,"4.2.5","Armadura CA-50 - 6.3mm (fornecimento, corte, dobra e colocação)","KG",18.7,19.010000000000002,{"$f":"[1]BDI!$C$31","v":0.2034},{"$f":"ROUND(((G52*H52)+G52),2)","v":22.88},427.86,92776,"SINAPI-C"]
[null,null,"4.3","Concreto",null,""]
[null,null,"4.3.1","Concreto Feito no Local, Fck= 25MPa (fornecimento, lançamento, adensamento e bombeado) - Pilares","M3",1.64,527.01,{"$f":"[1]BDI!$C$31","v":0.2034},{"$f":"ROUND(((G54*H54)+G54),2)","v":634.20000000000005},{"$f":"IF(ISERR(ROUND(ROUND(F54,2)*I54,2)),\"\",ROUND(ROUND(F54,2)*I54,2))","v":1040.0899999999999},"CED002","COMPOSIÇÃO"]
[null,null,"4.3.2","Concreto Usinado, Fck= 25MPa (fornecimento, lançamento, adensamento e bombeado) - Vigas","M3",1.62,527.01,{"$f":"[1]BDI!$C$31","v":0.2034},{"$f":"ROUND(((G55*H55)+G55),2)","v":634.20000000000005},{"$f":"IF(ISERR(ROUND(ROUND(F55,2)*I55,2)),\"\",ROUND(ROUND(F55,2)*I55,2))","v":1027.4000000000001},"CED003","COMPOSIÇÃO"]
[null,null,5,{"$f":"[1]QUANT!C35","v":"FECHAMENTOS"},null,"",null,null,"∑ ",{"$f":"SUM(J58,J60)","v":4763.8}]
[null,null,"5.1","Alvenaria de Tijolos Cerâmicos",null,""]
[null,null,"5.1.1","Alvenaria de Vedação de Rijolo Ceramico Furados Tijolo 11,5x19x24cm, 8 Furos, Assentamento Cutelo (fornecimento e assentamento, incluso argamassa)","M2",57.07,61.24,{"$f":"[1]BDI!$C$31","v":0.2034},{"$f":"ROUND(((G58*H58)+G58),2)","v":73.7},{"$f":"IF(ISERR(ROUND(ROUND(F58,2)*I58,2)),\"\",ROUND(ROUND(F58,2)*I58,2))","v":4206.0600000000004},"CED033","COMPOSIÇÃO"]
[null,null,"5.2","Contra-Vergas ",null,""]
[null,null,"5.2.1",{"$f":"[1]QUANT!C109","v":"Vergas, moldadas no local, h=20cm (incluso Fôrmas, Concreto e Armadura) "},"M",9.1,50.93,{"$f":"[1]BDI!$C$31","v":0.2034},{"$f":"ROUND(((G60*H60)+G60),2)","v":61.29},{"$f":"IF(ISERR(ROUND(ROUND(F60,2)*I60,2)),\"\",ROUND(ROUND(F60,2)*I60,2))","v":557.74},"CED030","COMPOSIÇÃO"]
[null,null,6,{"$f":"[1]QUANT!C149","v":"ESTRUTURA COBERTURA"},null,"",null,null,"∑ ",{"$f":"SUM(J62,J63)","v":9889}]
[null,null,"6.1","Estrutura Pontaletada em Madeira Não Aparelhada para Telha Cerâmica, composta por Pontaletes, Mão Francesa e Berço (fabricação e instalação)","M2",116,23.38,{"$f":"[1]BDI!$C$31","v":0.2034},{"$f":"ROUND(((G62*H62)+G62),2)","v":28.14},{"$f":"IF(ISERR(ROUND(ROUND(F62,2)*I62,2)),\"\",ROUND(ROUND(F62,2)*I62,2))","v":3264.24},"CED050","COMPOSIÇÃO"]
[null,null,"6.2","Trama de Pinus Tratado, composta por:\n- Ripas 3x6cm à cada 32cm\n- Caibros 6x12cm à cada 70cm\n- Terças 7x15cm à cada 220cm","M2",116,47.46,{"$f":"[1]BDI!$C$31","v":0.2034},{"$f":"ROUND(((G63*H63)+G63),2)","v":57.11},{"$f":"IF(ISERR(ROUND(ROUND(F63,2)*I63,2)),\"\",ROUND(ROUND(F63,2)*I63,2))","v":6624.76},"CED052","COMPOSIÇÃO"]
[null,null,7,{"$f":"[1]QUANT!C153","v":"TELHAMENTO"},null,"",null,null,"∑ ",{"$f":"SUM(J65,J66)","v":5212.2199999999993}]
[null,null,"7.1",{"$f":"[1]QUANT!C155","v":"Telha Cerâmica tipo Portuguesa, Esmaltada (fornecimento e instalação)"},"M2",116,33.979999999999997,{"$f":"[1]BDI!$C$31","v":0.2034},{"$f":"ROUND(((G65*H65)+G65),2)","v":40.89},{"$f":"IF(ISERR(ROUND(ROUND(F65,2)*I65,2)),\"\",ROUND(ROUND(F65,2)*I65,2))","v":4743.24},94195,"SINAPI-C"]
[null,null,"7.2",{"$f":"[1]QUANT!C160","v":"Cumeeiras/Espigão Cerâmica, Emboçada com Argamassa (fornecimento e instalação)"},"M",13.02,29.93,{"$f":"[1]BDI!$C$31","v":0.2034},{"$f":"ROUND(((G66*H66)+G66),2)","v":36.020000000000003},468.98,94219,"SINAPI-C"]
[null,null,8,{"$f":"[1]QUANT!C194","v":"CALHAS E RUFOS"},null,"",null,null,"∑ ",{"$f":"SUM(J68,J69)","v":3831.5600000000004}]
[null,null,"8.1",{"$f":"[1]QUANT!C201","v":"Calha Platibanda em Chapa em Aço Galvanizado, em Chapa 24 (e=0,65mm)"},"M",26.04,100.3,{"$f":"[1]BDI!$C$31","v":0.2034},{"$f":"ROUND(((G68*H68)+G68),2)","v":120.7},{"$f":"IF(ISERR(ROUND(ROUND(F68,2)*I68,2)),\"\",ROUND(ROUND(F68,2)*I68,2))","v":3143.03},94227,"SINAPI-C"]
[null,null,"8.2",{"$f":"[1]QUANT!C207","v":"Rufo Capa em Chapa em Aço Galvanizado, em Chapa 24 (e=0,65mm)"},"M",9.8699999999999992,57.97,{"$f":"[1]BDI!$C$31","v":0.2034},{"$f":"ROUND(((G69*H69)+G69),2)","v":69.760000000000005},688.53,94231,"SINAPI-C"]
[null,null,9,{"$f":"[1]QUANT!C225","v":"PISO CONVENCIONAL"},null,"",null,null,"∑ ",{"$f":"SUM(J71:J76)","v":9847.75}]
[null,null,"9.1","Regularização e Apiloamento Manual","M2",97.45,2.93,{"$f":"[1]BDI!$C$31","v":0.2034},{"$f":"ROUND(((G71*H71)+G71),2)","v":3.53},{"$f":"IF(ISERR(ROUND(ROUND(F71,2)*I71,2)),\"\",ROUND(ROUND(F71,2)*I71,2))","v":344},"CED060","COMPOSIÇÃO"]
[null,null,"9.2","Compactação Mecânica de Solo, com o Uso de Compactador a Percussão","M2",97.45,3.07,{"$f":"[1]BDI!$C$31","v":0.2034},3.69,359.59,97083,"SINAPI-C"]
[null,null,"9.3","Lastro de Brita Graduada, e=20cm","M3",19.489999999999998,113.85,{"$f":"[1]BDI!$C$31","v":0.2034},137.01,2670.32,100324,"SINAPI-C"]
[null,null,"9.4","Lona 200 Micras (fornecimento e instalação)","M2",97.45,2.98,{"$f":"[1]BDI!$C$31","v":0.2034},3.59,349.85,97087,"SINAPI-C"]
[null,null,"9.5","Tela Soldada Q-92 (fornecimento, corte e colocação com espaçador)","M2",97.45,23.7,{"$f":"[1]BDI!$C$31","v":0.2034},28.52,2779.27,"CED061","COMPOSIÇÃO"]
[null,null,"9.6","Piso de Concreto Usinado, e= 7cm, Fck= 25MPa (fornecimento, lançamento, adensamento, bombeamento e sarrafeamento)","M3",6.83,406.94,{"$f":"[1]BDI!$C$31","v":0.2034},489.71,3344.72,"CED003","COMPOSIÇÃO"]
[null,null,10,{"$f":"[1]QUANT!C233","v":"INSTALAÇÕES ELÉTRICAS"},null,null,null,null,"∑ ",{"$f":"SUM(J79:J94)","v":5812.2500000000009}]
[null,null,"10.1","Infraestrutura do Ramal de Carga e Aterramento"]
[null,null,"10.1.1","Eletroduto PVC Rígido 1.1/2\" (fornecimento e instalação)","M",15.75,16.71,{"$f":"[1]BDI!$C$31","v":0.2034},{"$f":"ROUND(((G79*H79)+G79),2)","v":20.11},{"$f":"IF(ISERR(ROUND(ROUND(F79,2)*I79,2)),\"\",ROUND(ROUND(F79,2)*I79,2))","v":316.73},93008,"SINAPI-C"]
[null,null,"10.2","Fiação do Ramal de Carga e Aterramento"]
[null,null,"10.2.1","Cabo de Cobre Isolado 6mm2 - 1KV","M",63,11.24,{"$f":"[1]BDI!$C$31","v":0.2034},{"$f":"ROUND(((G81*H81)+G81),2)","v":13.53},{"$f":"IF(ISERR(ROUND(ROUND(F81,2)*I81,2)),\"\",ROUND(ROUND(F81,2)*I81,2))","v":852.39},91931,"SINAPI-C"]
[null,null,"10.2.2","Cabo de Cobre Isolado 10mm2 - 1KV","M",15.75,11.93,{"$f":"[1]BDI!$C$31","v":0.2034},{"$f":"ROUND(((G82*H82)+G82),2)","v":14.36},226.17,92980,"SINAPI-C"]
[null,null,"10.3","Quadro de Distribuição"]
[null,null,"10.3.1","Quadro de Distribuição de Energia para 12 Disjuntores, em Chapa de Aço Galvanizado, com Barramento Trifasico e Neutro (fornecimento e instalação)","UN",1,513.5,{"$f":"[1]BDI!$C$31","v":0.2034},{"$f":"ROUND(((G84*H84)+G84),2)","v":617.95000000000005},{"$f":"IF(ISERR(ROUND(ROUND(F84,2)*I84,2)),\"\",ROUND(ROUND(F84,2)*I84,2))","v":617.95000000000005},101875,"SINAPI-C"]
[null,null,"10.4","Disjuntores"]
[null,null,"10.4.1","Disjuntor Monopolar 25A (fornecimento e instalação)","UN",2,14,{"$f":"[1]BDI!$C$31","v":0.2034},{"$f":"ROUND(((G86*H86)+G86),2)","v":16.850000000000001},{"$f":"IF(ISERR(ROUND(ROUND(F86,2)*I86,2)),\"\",ROUND(ROUND(F86,2)*I86,2))","v":33.700000000000003},93656,"SINAPI-C"]
[null,null,"10.5","Infraestrutura dos Pontos"]
[null,null,"10.5.1","Infraestrutura dos Pontos (Eletrodutos Corrigados 3/4\", Caixas Octogonais e Caixas 4\"x2\")","UN",10,98.61,{"$f":"[1]BDI!$C$31","v":0.2034},{"$f":"ROUND(((G88*H88)+G88),2)","v":118.67},{"$f":"IF(ISERR(ROUND(ROUND(F88,2)*I88,2)),\"\",ROUND(ROUND(F88,2)*I88,2))","v":1186.7},"CEL200","COMPOSIÇÃO"]
[null,null,"10.6","Fiação dos Pontos, Interruptores e Tomadas"]
[null,null,"10.6.1","Ponto de Iluminação (Fiação 2,5mm² e Interruptor Simples)","UN",2,58.31,{"$f":"[1]BDI!$C$31","v":0.2034},{"$f":"ROUND(((G90*H90)+G90),2)","v":70.17},{"$f":"IF(ISERR(ROUND(ROUND(F90,2)*I90,2)),\"\",ROUND(ROUND(F90,2)*I90,2))","v":140.34},"CEL201","COMPOSIÇÃO"]
[null,null,"10.6.2","Ponto de Tomada de Uso Geral (Fiação 2,5mm² e Tomada 10A 2P+T com Placa)","UN",13,95.14,{"$f":"[1]BDI!$C$31","v":0.2034},{"$f":"ROUND(((G91*H91)+G91),2)","v":114.49},{"$f":"IF(ISERR(ROUND(ROUND(F91,2)*I91,2)),\"\",ROUND(ROUND(F91,2)*I91,2))","v":1488.37},"CEL202","COMPOSIÇÃO"]
[null,null,"10.6.3","Ponto de Tomada de Uso Específico (Fiação 4mm² e Tomada 20A 2P+T com Placa)","UN",2,122.61,{"$f":"[1]BDI!$C$31","v":0.2034},{"$f":"ROUND(((G92*H92)+G92),2)","v":147.55000000000001},295.10000000000002,"CEL203","COMPOSIÇÃO"]
[null,null,"10.7","Luminárias"]
[null,null,"10.7.1","Luminária Calha, com 2 Lâmpadas de LED Tubular de 18W (fornecimento e instalação)","UN",10,54.41,{"$f":"[1]BDI!$C$31","v":0.2034},{"$f":"ROUND(((G94*H94)+G94),2)","v":65.48},{"$f":"IF(ISERR(ROUND(ROUND(F94,2)*I94,2)),\"\",ROUND(ROUND(F94,2)*I94,2))","v":654.79999999999995},"CEL101","COMPOSIÇÃO"]
[null,null,11,{"$f":"[1]QUANT!C249","v":"REDE HIDRÁULICA"},null,null,null,null,"∑ ",{"$f":"SUM(J96:J105)","v":1118.5}]
[null,null,"11.1","Metais"]
[null,null,"11.1.1","Registro de gaveta c/ canopla cromada | 3/4\"","UN",3,76.64,{"$f":"[1]BDI!$C$31","v":0.2034},{"$f":"ROUND(((G97*H97)+G97),2)","v":92.23},{"$f":"IF(ISERR(ROUND(ROUND(F97,2)*I97,2)),\"\",ROUND(ROUND(F97,2)*I97,2))","v":276.69},89987,"SINAPI-C"]
[null,null,"11.2","PVC Rígido Soldável"]
[null,null,"11.2.1","Joelho 90° soldável | redução 50mm - 25 mm","UN",3,10.8,{"$f":"[1]BDI!$C$31","v":0.2034},{"$f":"ROUND(((G99*H99)+G99),2)","v":13},{"$f":"IF(ISERR(ROUND(ROUND(F99,2)*I99,2)),\"\",ROUND(ROUND(F99,2)*I99,2))","v":39},"MED204","MERCADO"]
[null,null,"11.2.2","Curva 45º soldável | 50 mm","UN",1,25.29,{"$f":"[1]BDI!$C$31","v":0.2034},30.43,30.43,"CHD011","COMPOSIÇÃO"]
[null,null,"11.2.3","Tê soldável | 50 mm","UN",3,22.59,{"$f":"[1]BDI!$C$31","v":0.2034},27.18,81.540000000000006,89362,"SINAPI-C"]
[null,null,"11.2.4","Tubos | 25 mm","M",7.88,20.9,{"$f":"[1]BDI!$C$31","v":0.2034},25.15,198.18,89356,"SINAPI-C"]
[null,null,"11.2.5","Tubos | 50 mm","M",18.899999999999999,18.28,{"$f":"[1]BDI!$C$31","v":0.2034},{"$f":"ROUND(((G103*H103)+G103),2)","v":22},{"$f":"IF(ISERR(ROUND(ROUND(F103,2)*I103,2)),\"\",ROUND(ROUND(F103,2)*I103,2))","v":415.8},89449,"SINAPI-C"]
[null,null,"11.3","PVC Soldável Azul c/ Bucha de Latão"]
[null,null,"11.3.1","Joelho de redução 90º soldável com bucha de latão | 25 mm- 1/2\"","UN",3,21.29,{"$f":"[1]BDI!$C$31","v":0.2034},25.62,76.86,89625,"SINAPI-C"]
[null,null,12,{"$f":"[1]QUANT!C253","v":"REDE SANITÁRIA"},null,null,null,null,"∑ ",{"$f":"SUM(J107:J115)","v":2734.67}]
[null,null,"12.1","Caixas de Passagem"]
[null,null,"12.1.1","Caixa de Inspeção, 60x60cm, em Alvenaria","UN",1,921.54,{"$f":"[1]BDI!$C$31","v":0.2034},{"$f":"ROUND(((G108*H108)+G108),2)","v":1108.98},{"$f":"IF(ISERR(ROUND(ROUND(F108,2)*I108,2)),\"\",ROUND(ROUND(F108,2)*I108,2))","v":1108.98},97906,"SINAPI-C"]
[null,null,"12.2","Caixas Sifonadas"]
[null,null,"12.2.1","Caixa sifonada | 150x150x50","UN",1,70.81,{"$f":"[1]BDI!$C$31","v":0.2034},{"$f":"ROUND(((G110*H110)+G110),2)","v":85.21},{"$f":"IF(ISERR(ROUND(ROUND(F110,2)*I110,2)),\"\",ROUND(ROUND(F110,2)*I110,2))","v":85.21},"CHD031","COMPOSIÇÃO"]
[null,null,"12.3","PVC Esgoto"]
[null,null,"12.3.1","Joelho 90 | 50 mm","UN",4,10.8,{"$f":"[1]BDI!$C$31","v":0.2034},{"$f":"ROUND(((G112*H112)+G112),2)","v":13},{"$f":"IF(ISERR(ROUND(ROUND(F112,2)*I112,2)),\"\",ROUND(ROUND(F112,2)*I112,2))","v":52},89731,"SINAPI-C"]
[null,null,"12.3.2","Joelho 45 | 50 mm","UN",1,14.33,{"$f":"[1]BDI!$C$31","v":0.2034},17.239999999999998,17.239999999999998,89724,"SINAPI-C"]
[null,null,"12.3.3","Tubo rígido c/ ponta lisa | 100 mm - 4\"","M",18.899999999999999,56.64,{"$f":"[1]BDI!$C$31","v":0.2034},68.16,1288.22,89714,"SINAPI-C"]
[null,null,"12.3.4","Tubo rígido c/ ponta lisa | 50 mm - 2\"","M",5.25,28.97,{"$f":"[1]BDI!$C$31","v":0.2034},34.86,183.02,89712,"SINAPI-C"]
[null,null,13,{"$f":"[1]QUANT!C257","v":"REDE PLUVIAL"},null,null,null,null,"∑ ",{"$f":"SUM(J117:J125)","v":4376.6100000000006}]
[null,null,"13.1","PVC Esgoto"]
[null,null,"13.1.1","Curva 90 curta | 100 mm","UN",9,70,{"$f":"[1]BDI!$C$31","v":0.2034},{"$f":"ROUND(((G118*H118)+G118),2)","v":84.24},{"$f":"IF(ISERR(ROUND(ROUND(F118,2)*I118,2)),\"\",ROUND(ROUND(F118,2)*I118,2))","v":758.16},89748,"SINAPI-C"]
[null,null,"13.1.2","Joelho 45 | 100 mm","UN",4,35.29,{"$f":"[1]BDI!$C$31","v":0.2034},42.47,169.88,89746,"SINAPI-C"]
[null,null,"13.1.3","Tê  | 100 mm","UN",1,64.72,{"$f":"[1]BDI!$C$31","v":0.2034},77.88,77.88,"INHI180","COMPOSIÇÃO"]
[null,null,"13.1.4","Tê redução 100 mm - 50 mm","UN",2,63.63,{"$f":"[1]BDI!$C$31","v":0.2034},76.569999999999993,153.13999999999999,"INHI180","COMPOSIÇÃO"]
[null,null,"13.2","Tubo Rígido com Ponta Lisa, Condutores Horizontais, Com Escavação"]
[null,null,"13.2.1","100mm - 4\"","M",29.93,68.48,{"$f":"[1]BDI!$C$31","v":0.2034},{"$f":"ROUND(((G123*H123)+G123),2)","v":82.41},{"$f":"IF(ISERR(ROUND(ROUND(F123,2)*I123,2)),\"\",ROUND(ROUND(F123,2)*I123,2))","v":2466.5300000000002},89512,"SINAPI-C"]
[null,null,"13.3","Tubo Rígido com Ponta Lisa, Condutores Verticais"]
[null,null,"13.3.1","100mm - 4\"","M",13.65,45.72,{"$f":"[1]BDI!$C$31","v":0.2034},{"$f":"ROUND(((G125*H125)+G125),2)","v":55.02},{"$f":"IF(ISERR(ROUND(ROUND(F125,2)*I125,2)),\"\",ROUND(ROUND(F125,2)*I125,2))","v":751.02},89578,"SINAPI-C"]
[null,null,14,{"$f":"[1]QUANT!C269","v":"INSTALAÇÕES DE AR CONDICIONADO"},null,null,null,null,"∑ ",{"$f":"SUM(J127:J132)","v":274.64}]
[null,null,"14.1","Caixas de Passagem"]
[null,null,"14.1.1","Caixa de Passagem para Evaporadora/Condensadora","UN",2,39.29,{"$f":"[1]BDI!$C$31","v":0.2034},{"$f":"ROUND(((G128*H128)+G128),2)","v":47.28},{"$f":"IF(ISERR(ROUND(ROUND(F128,2)*I128,2)),\"\",ROUND(ROUND(F128,2)*I128,2))","v":94.56},91942,"SINAPI-C"]
[null,null,"14.2","PVC Rígido Soldável"]
[null,null,"14.2.1","Joelho 45 soldável | 50 mm","UN",2,6.85,{"$f":"[1]BDI!$C$31","v":0.2034},{"$f":"ROUND(((G130*H130)+G130),2)","v":8.24},{"$f":"IF(ISERR(ROUND(ROUND(F130,2)*I130,2)),\"\",ROUND(ROUND(F130,2)*I130,2))","v":16.48},89409,"SINAPI-C"]
[null,null,"14.2.2","Joelho 90° soldável | 50 mm","UN",2,5.97,{"$f":"[1]BDI!$C$31","v":0.2034},7.18,14.36,89408,"SINAPI-C"]
[null,null,"14.2.3","Tubos | 50 mm","UN",13,9.5399999999999991,{"$f":"[1]BDI!$C$31","v":0.2034},{"$f":"ROUND(((G132*H132)+G132),2)","v":11.48},{"$f":"IF(ISERR(ROUND(ROUND(F132,2)*I132,2)),\"\",ROUND(ROUND(F132,2)*I132,2))","v":149.24},89402,"SINAPI-C"]
[null,null,15,{"$f":"[1]QUANT!C277","v":"REVESTIMENTO ARGAMASSADO"},null,null,null,null,"∑ ",{"$f":"SUM(J134:J141)","v":11085.93}]
[null,null,"15.1",{"$f":"[1]QUANT!C285","v":"Chapisco"},null,""]
[null,null,"15.1.1",{"$f":"[1]QUANT!C286","v":"Chapisco Interno, aplicado com Colher de Pedreiro, Argamassa Traço 1:3"},"M2",48.12,8.3000000000000007,{"$f":"[1]BDI!$C$31","v":0.2034},{"$f":"ROUND(((G135*H135)+G135),2)","v":9.99},{"$f":"IF(ISERR(ROUND(ROUND(F135,2)*I135,2)),\"\",ROUND(ROUND(F135,2)*I135,2))","v":480.72},87905,"SINAPI-C"]
[null,null,"15.1.2",{"$f":"[1]QUANT!C316","v":"Chapisco Externo, aplicado com Colher de Pedreiro, Argamassa Traço 1:3"},"M2",59.92,8.3000000000000007,{"$f":"[1]BDI!$C$31","v":0.2034},9.99,598.6,87905,"SINAPI-C"]
[null,null,"15.2",{"$f":"[1]QUANT!C359","v":"Massa Única (Reboco/Emboço)"},null,""]
[null,null,"15.2.1",{"$f":"[1]QUANT!C360","v":"Massa Única Interna, para Pintura, \nArgamassa Traço 1:2:8"},"M2",48.12,31.48,{"$f":"[1]BDI!$C$31","v":0.2034},37.880000000000003,1822.79,87529,"SINAPI-C"]
[null,null,"15.2.2",{"$f":"[1]QUANT!C367","v":"Massa Única Externa, Argamassa Traço 1:2:8"},"M2",59.92,52.48,{"$f":"[1]BDI!$C$31","v":0.2034},63.15,3783.95,87775,"SINAPI-C"]
[null,null,"15.3",{"$f":"[1]QUANT!C370","v":"Contrapiso/Regularização"},null,""]
[null,null,"15.3.1",{"$f":"[1]QUANT!C371","v":"Contrapiso/Regularização, e=3cm, Argamassa Traço 1:4"},"M2",97.45,37.520000000000003,{"$f":"[1]BDI!$C$31","v":0.2034},{"$f":"ROUND(((G141*H141)+G141),2)","v":45.15},{"$f":"IF(ISERR(ROUND(ROUND(F141,2)*I141,2)),\"\",ROUND(ROUND(F141,2)*I141,2))","v":4399.87},94438,"SINAPI-C"]
[null,null,16,{"$f":"[1]QUANT!C377","v":"REVESTIMENTO DE ACABAMENTO"},null,"",null,null,"∑ ",{"$f":"SUM(J143:J148)","v":9842.86}]
[null,null,"16.1",{"$f":"[1]QUANT!C378","v":"Granito"},null,""]
[null,null,"16.1.1",{"$f":"[1]QUANT!C379","v":"Soleira de Granito Jateada, e=2cm, para Portas (fornecimento e assentamento)"},"M2",0.42,540.30999999999995,{"$f":"[1]BDI!$C$31","v":0.2034},{"$f":"ROUND(((G144*H144)+G144),2)","v":650.21},{"$f":"IF(ISERR(ROUND(ROUND(F144,2)*I144,2)),\"\",ROUND(ROUND(F144,2)*I144,2))","v":273.08999999999997},"CED200","COMPOSIÇÃO"]
[null,null,"16.1.2",{"$f":"[1]QUANT!C391","v":"Soleira de Granito Polido, e=2cm, para Janelas (fornecimento e assentamento)"},"M2",2.59,540.30999999999995,{"$f":"[1]BDI!$C$31","v":0.2034},{"$f":"ROUND(((G145*H145)+G145),2)","v":650.21},{"$f":"IF(ISERR(ROUND(ROUND(F145,2)*I145,2)),\"\",ROUND(ROUND(F145,2)*I145,2))","v":1684.04},"CED200","COMPOSIÇÃO"]
[null,null,"16.2",{"$f":"[1]QUANT!C397","v":"Cerâmico"},null,""]
[null,null,"16.2.1","Piso Cerâmico ANTIDERRAPANTE, 60x60cm (ou medida aproximada, Cor igual existente) , PEI 5, assentado com Argamassa","M2",97.45,62.53,{"$f":"[1]BDI!$C$31","v":0.2034},{"$f":"ROUND(((G147*H147)+G147),2)","v":75.25},{"$f":"IF(ISERR(ROUND(ROUND(F147,2)*I147,2)),\"\",ROUND(ROUND(F147,2)*I147,2))","v":7333.11},87257,"SINAPI-C"]
[null,null,"16.2.2",{"$f":"[1]QUANT!C410","v":"Rodapé Cerâmico de 7cm, assentado com Argamassa"},"M",39.9,11.51,{"$f":"[1]BDI!$C$31","v":0.2034},{"$f":"ROUND(((G148*H148)+G148),2)","v":13.85},552.62,88650,"SINAPI-C"]
[null,null,17,{"$f":"[1]QUANT!C514","v":"PINTURA"},null,"",null,null,"∑ ",{"$f":"SUM(J150:J152)","v":3411.9100000000003}]
[null,null,"17.1",{"$f":"[1]QUANT!C543","v":"Fundo Preparador para Pintura Acrílica, 01 demão"},"M2",146.82,2.1800000000000002,{"$f":"[1]BDI!$C$31","v":0.2034},{"$f":"ROUND(((G150*H150)+G150),2)","v":2.62},{"$f":"IF(ISERR(ROUND(ROUND(F150,2)*I150,2)),\"\",ROUND(ROUND(F150,2)*I150,2))","v":384.67},88485,"SINAPI-C"]
[null,null,"17.2",{"$f":"[1]QUANT!C547","v":"Pintura Acrílica, 02 demãos"},"M2",146.82,14.36,{"$f":"[1]BDI!$C$31","v":0.2034},{"$f":"ROUND(((G151*H151)+G151),2)","v":17.28},2537.0500000000002,88489,"SINAPI-C"]
[null,null,"17.3","Pintura tinta de acabamento pigmentada a óleo em madeira 3 de mão (beiral)","M2",17.89,22.77,{"$f":"[1]BDI!$C$31","v":0.2034},{"$f":"ROUND(((G152*H152)+G152),2)","v":27.4},490.19,102227,"SINAPI-C"]
[null,null,18,"FORRO",null,"",null,null,"∑ ",{"$f":"SUM(J154:J156)","v":14527.26}]
[null,null,"18.1","Forro de PVC, Branco com Friso macho/fêmea (inclusive estrutura de fixação)","M2",97.45,85.99,0.2034,161.69999999999999,7915.22,96486,"SINAPI-C"]
[null,null,"18.2","Rodaforro de PVC (fornecimento e instalação)","M",43.63,76.290000000000006,0.2034,51.76,2630.44,96116,"SINAPI-C"]
[null,null,"18.3","Fechamento beiral do telhado (80cm)","M2",17.89,184.94,{"$f":"[1]BDI!$C$31","v":0.2034},{"$f":"ROUND(((G156*H156)+G156),2)","v":222.56},{"$f":"IF(ISERR(ROUND(ROUND(F156,2)*I156,2)),\"\",ROUND(ROUND(F156,2)*I156,2))","v":3981.6},96117,"SINAPI-C"]
[null,null,19,{"$f":"[1]QUANT!C634","v":"ESQUADRIAS DE ALUMÍNIO"},null,"",null,null,"∑ ",{"$f":"SUM(J158:J160)","v":3037.37}]
[null,null,"19.1","Janela de Correr, 7 Folhas de Correr, 5,86x1,10m (instalação)","UN",1,550,{"$f":"[1]BDI!$C$31","v":0.2034},{"$f":"ROUND(((G158*H158)+G158),2)","v":661.87},{"$f":"IF(ISERR(ROUND(ROUND(F158,2)*I158,2)),\"\",ROUND(ROUND(F158,2)*I158,2))","v":661.87},"MED205","MERCADO"]
[null,null,"19.2","Janela de Correr, 2 Folha Fixa, 2 Folhas de Correr, com  - 2,00x1,10m (fornecimento e instalação)","UN",1,871.2,{"$f":"[1]BDI!$C$31","v":0.2034},{"$f":"ROUND(((G159*H159)+G159),2)","v":1048.4000000000001},{"$f":"IF(ISERR(ROUND(ROUND(F159,2)*I159,2)),\"\",ROUND(ROUND(F159,2)*I159,2))","v":1048.4000000000001},"MED206","MERCADO"]
[null,null,"19.3","Porta Janela de Abrir, 2 Folha Abrir, com  - 2,00x2,10m (fornecimento e instalação)","UN",1,1102.79,{"$f":"[1]BDI!$C$31","v":0.2034},{"$f":"ROUND(((G160*H160)+G160),2)","v":1327.1},{"$f":"IF(ISERR(ROUND(ROUND(F160,2)*I160,2)),\"\",ROUND(ROUND(F160,2)*I160,2))","v":1327.1},"MED207","MERCADO"]
[null,null,20,{"$f":"[1]QUANT!C880","v":"ACESSÓRIOS DO PREVENTIVO CONTRA INCÊNDIO"},null,null,null,null,"∑ ",{"$f":"SUM(J163:J166)","v":314.58000000000004}]
[null,null,"20.1","Iluminação e Sinalização de Emergência"]
[null,null,"20.1.1","Bloco Autônomo com Indicação de Saída","UN",1,47.81,0.2034,57.53,57.53,"CPR001","COMPOSIÇÃO"]
[null,null,"20.1.2","Bloco Autônomo de Iluminação de Emergência 30 LED's","UN",4,29.58,0.2034,35.9,107.7,97599,"SINAPI-C"]
[null,null,"20.2","Extintores"]
[null,null,"20.2.1","Extintor de Incêndio Portátil PQS 4kg","UN",1,160.74,0.2034,149.35,149.35,101908,"SINAPI-C"]
[]
[null,null,null,null,null,null,null,null,"TOTAL:",{"$f":"SUM(J161,J157,J153,J149,J142,J133,J126,J116,J106,J95,J77,J70,J67,J64,J61,J56,J43,J25,J17,J15)","v":119858.94}]
[]
[]
[null,null,"1.","Declaro que os encargos sociais e complementares para mão de obra, horista e mensalista, sem desoneração, atendem ao estabelecido no SINAPI para SC."]
[]
[null,null,"2.","Declaro que para esta planilha, foi verificado que a alternativa mais adequada para a Administração Pública, é a utilização da planilha SEM DESONERAÇÃO."]
[]
[null,null,"Rio do Sul,",{"$f":"TODAY()","v":"2021-11-19"}]
[]
[null,null,"3.","INCLUSO EM TODO ORÇAMENTO\nTodo material, mão-de-obra e equipamentos necessários para fabricação, montagem içamento, elementos de fixação e vedação, ferragens, parafusos porcas e arruelas, chaparias, Projeto, Fabricação, Transporte, Montagem e ART de Fabricação e Montagem."]
[]
[null,null,"4.","Para o item X.X, considerou um valor obtido através de cotação de mercado. Esta cotação de mercado considera um mínimo de 3 fontes de pesquisa, onde são incorporados nos valores todos os custos, sendo diretos e indiretos. Ou seja, inclui-se fornecimento de material e mão-de-obra necessários, fabricação e montagem das peças, além de impostos, lucro, entre outros.\nRessalta-se que este município zela pelo princípio da economicidade, onde a indicação de BDI igual a 0 (zero) está justificado para que não haja a duplicidade da consideração das despesas indireta."]

{"sheet":"FISICO","index":1,"n_rows":39,"n_cols":12,"rows_kept":39,"cut":false,"hidden":false,"merged":[[13,9,14,9],[13,11,14,11],[13,0,14,0],[13,1,14,1],[13,2,14,2],[13,3,14,3],[13,5,14,5],[13,7,14,7]]}
[]
[]
[]
[]
[]
[]
[]
[]
[]
[]
[]
[]
["TODOS OS VALORES ESTÃO NA UNIDADE MONETÁRIA REAL"]
["ITEM ","DESCRIÇÃO ","TOTAL","%",1,"%",2,"%",3,"%",4,"%"]
[null,null,null,null,{"$f":"E14*30","v":30},null,{"$f":"G14*30","v":60},null,{"$f":"I14*30","v":90},null,{"$f":"K14*30","v":120}]
[]
[1,"CANTEIRO DE OBRAS",{"$f":"CRONOGRAMA!J15","v":450},{"$f":"C17/$C$38","v":3.7544133128492546E-3},{"$f":"C17*F17","v":450},1,{"$f":"C17*H17","v":0},0,{"$f":"C17*J17","v":0},0,{"$f":"C17*L17","v":0},0]
[2,"DEMOLIÇÃO",{"$f":"CRONOGRAMA!J17","v":5525.09},4.6096603223756201E-2,{"$f":"C18*F18","v":5525.09},1,{"$f":"C18*H18","v":0},0,{"$f":"C18*J18","v":0},0,{"$f":"C18*L18","v":0},0]
[3,"INFRAESTRUTURA",{"$f":"CRONOGRAMA!J25","v":13704.099999999999},0.11433523440137215,13704.099999999999,1,0,{"$f":"1-F19","v":0},0,0,0,0]
[4,"SUPRAESTRUTURA",{"$f":"CRONOGRAMA!J43","v":10098.839999999998},8.4256042978521239E-2,0,0,10098.839999999998,1,0,0,0,0]
[5,"FECHAMENTOS",{"$f":"CRONOGRAMA!J56","v":4763.8},3.9745053643891734E-2,0,0,4763.8,1,0,0,0,0]
[6,"ESTRUTURA COBERTURA",{"$f":"CRONOGRAMA!J61","v":9889},8.2505318335036174E-2,0,0,0,0,9889,1,0,0]
[7,"TELHAMENTO",{"$f":"CRONOGRAMA!J64","v":5212.2199999999993},4.3486284794442533E-2,0,0,0,0,5212.2199999999993,1,0,0]
[8,"CALHAS E RUFOS",{"$f":"CRONOGRAMA!J67","v":3831.5600000000004},3.1967244162179317E-2,0,0,0,null,0,0,3831.5600000000004,1]
[9,"PISO CONVENCIONAL",{"$f":"CRONOGRAMA!J70","v":9847.75},8.2161163781358335E-2,0,0,4923.875,0.5,4923.875,0.5,0,0]
[10,"INSTALAÇÕES ELÉTRICAS",{"$f":"CRONOGRAMA!J77","v":5812.2500000000009},4.8492419505795741E-2,0,0,0,0,2906.1250000000005,0.5,2906.1250000000005,0.5]
[11,"REDE HIDRÁULICA ",{"$f":"CRONOGRAMA!J95","v":1118.5},9.3318028676042022E-3,0,0,559.25,0.5,559.25,0.5,0,0]
[12,"REDE SANITÁRIA",{"$f":"CRONOGRAMA!J106","v":2734.67},2.2815736564998825E-2,2734.67,1,0,0,0,0,0,0]
[13,"REDE PLUVIAL",{"$f":"CRONOGRAMA!J116","v":4376.6100000000006},3.6514672998109288E-2,4376.6100000000006,1,0,0,0,0,0,0]
[14,"INSTALAÇÕES DE AR-CONDICIONADO",{"$f":"CRONOGRAMA!J126","v":274.64},2.2913601605353763E-3,0,null,0,0,274.64,1,0,0]
[15,"REVESTIMENTO ARGAMASSADO",{"$f":"CRONOGRAMA!J133","v":11085.93},9.2491473727366533E-2,0,0,0,0,11085.93,1,0,0]
[16,"REVESTIMENTO DE ACABAMENTO",{"$f":"CRONOGRAMA!J142","v":9842.86},8.2120365823358701E-2,0,0,0,0,1968.5720000000001,0.2,{"$f":"C32*L32","v":7874.2880000000005},0.8]
[17,"PINTURA",{"$f":"CRONOGRAMA!J149","v":3411.9100000000003},2.8466045169430004E-2,0,0,0,0,0,0,3411.9100000000003,1]
[18,"FORRO",{"$f":"CRONOGRAMA!J153","v":14527.26},0.12120297409604992,0,0,0,0,0,0,14527.26,1]
[19,"ESQUADRIAS DE ALUMÍNIO",{"$f":"CRONOGRAMA!J157","v":3037.37},2.5341205253442089E-2,0,0,0,0,0,0,3037.37,1]
[20,"ACESSÓRIOS DO PREVENTIVO CONTRA INCÊNDIO",{"$f":"CRONOGRAMA!J161","v":314.58000000000004},2.6245851999024861E-3,0,0,0,0,0,0,314.58000000000004,1]
[]
[null,"SUBTOTAL",{"$f":"SUM(C16:C37)","v":119858.93999999999},{"$f":"SUM(D17:D37)","v":1},{"$f":"SUM(E17:E37)","v":26790.47},{"$f":"E38/C38","v":0.22351666050108573},{"$f":"SUM(G17:G37)","v":20345.764999999999},{"$f":"G38/C38","v":0.16974757994689427},{"$f":"SUM(I17:I37)","v":36819.612000000001},{"$f":"I38/C38","v":0.3071912032594315},{"$f":"SUM(K17:K37)","v":35903.093000000008},{"$f":"K38/C38","v":0.29954455629258869}]
[null,"TOTAL ACUMULADO",null,null,{"$f":"C39+E38","v":26790.47},0.22351666050108573,47136.235000000001,0.39326424044798003,83955.847000000009,0.70045544370741153,119858.94000000002,1.0000000000000002]

{"sheet":"BDI","index":2,"n_rows":63,"n_cols":14,"rows_kept":63,"cut":false,"hidden":false,"merged":[[13,11,14,13],[13,7,14,9],[3,7,3,9],[2,7,2,9],[55,7,55,9],[56,7,57,9],[60,1,60,4],[45,7,46,9],[24,11,25,13],[23,11,23,13],[24,7,25,9],[23,7,23,9],[34,1,34,4],[36,1,36,4],[39,1,41,1],[39,3,41,3],[44,1,44,4],[46,1,46,4],[28,1,28,4],[13,1,13,4],[2,1,2,4],[4,1,4,4],[7,1,9,1],[7,3,9,3],[12,1,12,4]]}
[]
[]
[null,"O valor do BDI é obtido pela fórmula e taxas abaixo:",null,null,null,null,null,"ADMINISTRAÇÃO LOCAL"]
[null,null,null,null,null,null,null,"1 Quartil"]
[null,"FÓRMULA BDI "]
[]
[]
[null,"BDI ="," (1+AC+S+R+G) (1+DF) (1+L)  ",-1]
[null,null,"_______________________________________            "]
[null,null,"(1-I)"]
[]
[]
[null,"Tipo de Obra:"]
[null,{"$f":"H14","v":"CONSTRUÇÃO DE EDIFÍCIOS"},null,null,null,null,null,"CONSTRUÇÃO DE EDIFÍCIOS",null,null,null,"CONSTRUÇÃO DE RODOVIAS E FERROVIAS (PRAÇAS)"]
[]
[]
[null,"ONDE (Conforme Acórdão do TCU N°2622/2013):",null,null,null,null,null,"1 Quartil","Médio","3 Quartil",null,"1 Quartil","Médio","3 Quartil"]
[null,"AC =  Taxa de Administração Central",null,null,{"$f":"H18","v":0.03},null,null,{"$f":"'[1]FONTE BDI'!C16","v":0.03},{"$f":"'[1]FONTE BDI'!D16","v":0.04},{"$f":"'[1]FONTE BDI'!E16","v":5.5E-2},null,{"$f":"'[1]FONTE BDI'!C25","v":3.7999999999999999E-2},{"$f":"'[1]FONTE BDI'!D25","v":4.0099999999999997E-2},{"$f":"'[1]FONTE BDI'!E25","v":4.6699999999999998E-2}]
[null,"S = Taxa de Seguros",null,null,{"$f":"H19","v":4.0000000000000001E-3},null,null,{"$f":"'[1]FONTE BDI'!C17/2","v":4.0000000000000001E-3},{"$f":"'[1]FONTE BDI'!D17/2","v":4.0000000000000001E-3},{"$f":"'[1]FONTE BDI'!E17/2","v":5.0000000000000001E-3},null,{"$f":"'[1]FONTE BDI'!C26/2","v":1.6000000000000001E-3},{"$f":"'[1]FONTE BDI'!D26/2","v":2E-3},{"$f":"'[1]FONTE BDI'!E26/2","v":3.7000000000000002E-3}]
[null,"G = Taxa de Garantias",null,null,{"$f":"H20","v":4.0000000000000001E-3},null,null,{"$f":"'[1]FONTE BDI'!C17/2","v":4.0000000000000001E-3},{"$f":"'[1]FONTE BDI'!D17/2","v":4.0000000000000001E-3},{"$f":"'[1]FONTE BDI'!E17/2","v":5.0000000000000001E-3},null,{"$f":"'[1]FONTE BDI'!C26/2","v":1.6000000000000001E-3},{"$f":"'[1]FONTE BDI'!D26/2","v":2E-3},{"$f":"'[1]FONTE BDI'!E26/2","v":3.7000000000000002E-3}]
[null,"R = Taxa de Riscos",null,null,{"$f":"H21","v":9.7000000000000003E-3},null,null,{"$f":"'[1]FONTE BDI'!C18","v":9.7000000000000003E-3},{"$f":"'[1]FONTE BDI'!D18","v":1.2699999999999999E-2},{"$f":"'[1]FONTE BDI'!E18","v":1.2699999999999999E-2},null,{"$f":"'[1]FONTE BDI'!C27","v":5.0000000000000001E-3},{"$f":"'[1]FONTE BDI'!D27","v":5.5999999999999999E-3},{"$f":"'[1]FONTE BDI'!E27","v":9.7000000000000003E-3}]
[null,"DF = Taxa de Despesas Financeiras",null,null,{"$f":"H22","v":5.8999999999999999E-3},null,null,{"$f":"'[1]FONTE BDI'!C19","v":5.8999999999999999E-3},{"$f":"'[1]FONTE BDI'!D19","v":1.23E-2},{"$f":"'[1]FONTE BDI'!E19","v":1.3899999999999999E-2},null,{"$f":"'[1]FONTE BDI'!C28","v":1.0200000000000001E-2},{"$f":"'[1]FONTE BDI'!D28","v":1.11E-2},{"$f":"'[1]FONTE BDI'!E28","v":1.21E-2}]
[null,"L = Taxa de Lucro / Remuneração",null,null,{"$f":"IF(ROUNDUP((((1+H31)*(1-E24))/((1+E18+E19+E20+E21)*(1+E22))-1),4)<H23,H23,ROUNDUP((((1+H31)*(1-E24))/((1+E18+E19+E20+E21)*(1+E22))-1),4))","v":6.6000000000000003E-2},null,null,{"$f":"'[1]FONTE BDI'!C20","v":6.1600000000000002E-2},{"$f":"'[1]FONTE BDI'!D20","v":7.3999999999999996E-2},{"$f":"'[1]FONTE BDI'!E20","v":8.9599999999999999E-2},null,{"$f":"'[1]FONTE BDI'!C29","v":6.6400000000000001E-2},{"$f":"'[1]FONTE BDI'!D29","v":7.2999999999999995E-2},{"$f":"'[1]FONTE BDI'!E29","v":8.6900000000000005E-2}]
[null,"I = Taxa de Incidência de Impostos",null,null,{"$f":"D27","v":6.6500000000000004E-2},null,null,"Conforme legislação específica",null,null,null,"Conforme legislação específica"]
[null,null,"I1: PIS e COFINS",3.6499999999999998E-2,null,null,null,{"$f":"'[1]DADOS GERAIS'!$B$3","v":"Prefeitura Municipal de Vitor Meireles"},null,null,null,{"$f":"'[1]DADOS GERAIS'!$B$3","v":"Prefeitura Municipal de Vitor Meireles"}]
[null,null,"I2: ISSQN (conforme legislação municipal)",{"$f":"VLOOKUP(H25,'[1]FONTE BDI'!G14:H41,2,FALSE)","v":0.03}]
[null,null,"∑",{"$f":"SUM(D25:D26)","v":6.6500000000000004E-2}]
[]
[null,"Logo, obtem-se com os dados na fórmula o seguinte resultado:"]
[null,null,null,null,null,null,null,"1 Quartil","Médio","3 Quartil",null,"1 Quartil","Médio","3 Quartil"]
[null,null,{"$f":"TRUNC(((((1+E18+E19+E20+E21)*(1+E22)*(1+E23))/(1-E24))-1),4)","v":0.2034},null,null,null,null,{"$f":"'[1]FONTE BDI'!C5","v":0.2034},{"$f":"'[1]FONTE BDI'!D5","v":0.22120000000000001},{"$f":"'[1]FONTE BDI'!E5","v":0.25},null,{"$f":"'[1]FONTE BDI'!C6","v":0.19600000000000001},{"$f":"'[1]FONTE BDI'!D6","v":0.2097},{"$f":"'[1]FONTE BDI'!E6","v":0.24229999999999999}]
[]
[null,null,null,null,null,null,null,{"$f":"IF(COUNTIF([1]ORÇAMENTO!O:O,C63)<>0,\"Utilizado\",\"\")","v":{"$error":"#VALUE!"}}]
[]
[null,"O valor do BDI é obtido pela fórmula e taxas abaixo:"]
[]
[null,"FÓRMULA BDI "]
[]
[]
[null,"BDI ="," (1+AC+S+R+G) (1+DF) (1+L)  ",-1]
[null,null,"_______________________________________            "]
[null,null,"(1-I)"]
[]
[]
[null,"Tipo de Obra:"]
[null,null,null,null,null,null,null,"FORNECIMENTO DE MATERIAIS E EQUIPAMENTOS"]
[null,"FORNECIMENTO DE MATERIAIS E EQUIPAMENTOS"]
[]
[null,"ONDE (Conforme Acórdão do TCU N°2622/2013):",null,null,null,null,null,"1 Quartil","Médio","3 Quartil"]
[null,"AC =  Taxa de Administração Central",null,null,{"$f":"H50","v":1.4999999999999999E-2},null,null,{"$f":"'[1]FONTE BDI'!C61","v":1.4999999999999999E-2},{"$f":"'[1]FONTE BDI'!D61","v":3.4500000000000003E-2},{"$f":"'[1]FONTE BDI'!E61","v":4.4900000000000002E-2}]
[null,"S = Taxa de Seguros",null,null,1.5E-3,null,null,{"$f":"'[1]FONTE BDI'!C62/2","v":1.5E-3},{"$f":"'[1]FONTE BDI'!D62/2","v":2.3999999999999998E-3},{"$f":"'[1]FONTE BDI'!E62/2","v":4.1000000000000003E-3}]
[null,"G = Taxa de Garantias",null,null,1.5E-3,null,null,{"$f":"'[1]FONTE BDI'!C62/2","v":1.5E-3},{"$f":"'[1]FONTE BDI'!D62/2","v":2.3999999999999998E-3},{"$f":"'[1]FONTE BDI'!E62/2","v":4.1000000000000003E-3}]
[null,"R = Taxa de Riscos",null,null,5.5999999999999999E-3,null,null,{"$f":"'[1]FONTE BDI'!C63","v":5.5999999999999999E-3},{"$f":"'[1]FONTE BDI'!D63","v":8.5000000000000006E-3},{"$f":"'[1]FONTE BDI'!E63","v":8.8999999999999999E-3}]
[null,"DF = Taxa de Despesas Financeiras",null,null,8.5000000000000006E-3,null,null,{"$f":"'[1]FONTE BDI'!C64","v":8.5000000000000006E-3},{"$f":"'[1]FONTE BDI'!D64","v":8.5000000000000006E-3},{"$f":"'[1]FONTE BDI'!E64","v":1.11E-2}]
[null,"L = Taxa de Lucro / Remuneração",null,null,3.5000000000000003E-2,null,null,{"$f":"'[1]FONTE BDI'!C65","v":3.5000000000000003E-2},{"$f":"'[1]FONTE BDI'!D65","v":5.11E-2},{"$f":"'[1]FONTE BDI'!E65","v":6.2199999999999998E-2}]
[null,"I = Taxa de Incidência de Impostos",null,null,{"$f":"D59","v":6.6500000000000004E-2},null,null,"Conforme legislação específica"]
[null,null,"I1: PIS e COFINS",3.6499999999999998E-2,null,null,null,{"$f":"'[1]DADOS GERAIS'!$B$3","v":"Prefeitura Municipal de Vitor Meireles"}]
[null,null,"I2: ISSQN (conforme legislação municipal)",{"$f":"VLOOKUP(H57,'[1]FONTE BDI'!G14:H41,2,FALSE)","v":0.03}]
[null,null,"∑",{"$f":"SUM(D57:D58)","v":6.6500000000000004E-2}]
[]
[null,"Logo, obtem-se com os dados na fórmula o seguinte resultado:"]
[null,null,null,null,null,null,null,"1 Quartil","Médio","3 Quartil"]
[null,null,{"$f":"TRUNC(((((1+E50+E51+E52+E53)*(1+E54)*(1+E55))/(1-E56))-1),4)","v":0.14449999999999999},null,null,null,null,{"$f":"'[1]FONTE BDI'!C10","v":0.111},{"$f":"'[1]FONTE BDI'!D10","v":0.14019999999999999},{"$f":"'[1]FONTE BDI'!E10","v":0.16800000000000001}]